BEGIN:VCALENDAR
VERSION:2.0
PRODID:-//Old School Clay and Ceramics - ECPv6.15.20//NONSGML v1.0//EN
CALSCALE:GREGORIAN
METHOD:PUBLISH
X-WR-CALNAME:Old School Clay and Ceramics
X-ORIGINAL-URL:https://oldschoolclayandceramics.com
X-WR-CALDESC:Events for Old School Clay and Ceramics
REFRESH-INTERVAL;VALUE=DURATION:PT1H
X-Robots-Tag:noindex
X-PUBLISHED-TTL:PT1H
BEGIN:VTIMEZONE
TZID:America/New_York
BEGIN:DAYLIGHT
TZOFFSETFROM:-0500
TZOFFSETTO:-0400
TZNAME:EDT
DTSTART:20220313T070000
END:DAYLIGHT
BEGIN:STANDARD
TZOFFSETFROM:-0400
TZOFFSETTO:-0500
TZNAME:EST
DTSTART:20221106T060000
END:STANDARD
BEGIN:DAYLIGHT
TZOFFSETFROM:-0500
TZOFFSETTO:-0400
TZNAME:EDT
DTSTART:20230312T070000
END:DAYLIGHT
BEGIN:STANDARD
TZOFFSETFROM:-0400
TZOFFSETTO:-0500
TZNAME:EST
DTSTART:20231105T060000
END:STANDARD
BEGIN:DAYLIGHT
TZOFFSETFROM:-0500
TZOFFSETTO:-0400
TZNAME:EDT
DTSTART:20240310T070000
END:DAYLIGHT
BEGIN:STANDARD
TZOFFSETFROM:-0400
TZOFFSETTO:-0500
TZNAME:EST
DTSTART:20241103T060000
END:STANDARD
END:VTIMEZONE
BEGIN:VEVENT
DTSTART;TZID=America/New_York:20230423T130000
DTEND;TZID=America/New_York:20230423T150000
DTSTAMP:20260425T203322
CREATED:20230218T155932Z
LAST-MODIFIED:20230305T130113Z
UID:2109-1682254800-1682262000@oldschoolclayandceramics.com
SUMMARY:Make a Planter
DESCRIPTION:Do you have a plant that you love and want to create a planter that will show off just how unique or pretty it is? \nJoin us Sunday afternoons in April for this beginner class to make a planter.  The planter with feature a textured outside and attached saucer for drainage. You can add holes to make it a hanging planter\, or just leave it to sit beautifully on your table or windowsill. The planter will be a maximum of 7 inches tall by 5 inches wide – you can make it smaller\, if needed. We’ll use different items to add texture to the outside for visual interest – or you can leave it plain and just let the glaze do its magic. The planter will be made using slabs of clay and molds\, but finished on the wheel.  The class will be limited to 6 students and will involve sharing of the wheels. \nThe class will meet two days. The first day we will make the planter. You will then come back the following week to glaze the planter. The days will be Sunday\, April 23 and 30 from1to 3 pm. The first class will likely take the full 2 hours\, the second class will probably be just one hour. \n\n\n\n	\n		\n			\n			\n		\n\n		\n		\n			\n			\n		\n\n		\n		\n			\n			\n		\n\n		\n		\n			\n			\n		\n\n		\n		\n			\n			\n		\n\n		\n		\n			\n			\n		\n\n		\n\n\nYour planter will be ready for pick up within 3 weeks following the last class.   \nPlease familiarize yourself with my rules of the studio before committing to this class. \nTo reserve your seat\, click here.\n 
URL:https://oldschoolclayandceramics.com/event/make-a-planter-2/
LOCATION:Old School Clay and Ceramics\, 145 Main St\, Groton\, Ma\, 01450
CATEGORIES:Workshop
ATTACH;FMTTYPE=image/jpeg:https://oldschoolclayandceramics.com/wp-content/uploads/2023/01/PXL_20230128_154957379.PORTRAIT-scaled.jpg
ORGANIZER;CN="Old School Clay and Ceramics":MAILTO:whistlewood1@gmail.com
END:VEVENT
END:VCALENDAR