BEGIN:VCALENDAR
VERSION:2.0
PRODID:-//Old School Clay and Ceramics - ECPv6.15.20//NONSGML v1.0//EN
CALSCALE:GREGORIAN
METHOD:PUBLISH
X-ORIGINAL-URL:https://oldschoolclayandceramics.com
X-WR-CALDESC:Events for Old School Clay and Ceramics
REFRESH-INTERVAL;VALUE=DURATION:PT1H
X-Robots-Tag:noindex
X-PUBLISHED-TTL:PT1H
BEGIN:VTIMEZONE
TZID:America/Halifax
BEGIN:DAYLIGHT
TZOFFSETFROM:-0400
TZOFFSETTO:-0300
TZNAME:ADT
DTSTART:20210314T060000
END:DAYLIGHT
BEGIN:STANDARD
TZOFFSETFROM:-0300
TZOFFSETTO:-0400
TZNAME:AST
DTSTART:20211107T050000
END:STANDARD
BEGIN:DAYLIGHT
TZOFFSETFROM:-0400
TZOFFSETTO:-0300
TZNAME:ADT
DTSTART:20220313T060000
END:DAYLIGHT
BEGIN:STANDARD
TZOFFSETFROM:-0300
TZOFFSETTO:-0400
TZNAME:AST
DTSTART:20221106T050000
END:STANDARD
BEGIN:DAYLIGHT
TZOFFSETFROM:-0400
TZOFFSETTO:-0300
TZNAME:ADT
DTSTART:20230312T060000
END:DAYLIGHT
BEGIN:STANDARD
TZOFFSETFROM:-0300
TZOFFSETTO:-0400
TZNAME:AST
DTSTART:20231105T050000
END:STANDARD
END:VTIMEZONE
BEGIN:VEVENT
DTSTART;TZID=America/Halifax:20221102T133000
DTEND;TZID=America/Halifax:20221102T160000
DTSTAMP:20260425T235926
CREATED:20221031T161518Z
LAST-MODIFIED:20221031T161518Z
UID:1803-1667395800-1667404800@oldschoolclayandceramics.com
SUMMARY:Open Studio - Nov 2
DESCRIPTION:Feeling creative!? Join us Wednesday Afternoons from 1:30 – 4 pm to make your own creations. I will be available to provide technical assistance for you to achieve your clay ideas. Pretty much no limit on what you can make. I plan to offer this option for open studio through most of the summer\, that is\, through November. This option will likely change in the fall.  \nThis will be a test run for the month of November \, where clay and materials are  included in the price.  If you make something at home\, or take something home to work on\, you will be charged an additional fee for glazes and/or  firing.  If you have never done an open studio before\, it is good to come to the workshop with the intention of making 3 things (3 plates\, mugs\, bowls…) You may not make all 3\, but you will get a good start on them. I will help you with technical advice for construction of your design.  If you plan to work on the wheel\, you need to plan on at least 2 more open studios\, one more to trim your pots\, and a final one to glaze.  \nPLEASE READ ***: This will likely be the last open studio for the month of November that I will be attending. A few of the regular Wednesday crowd has said they would like to continue and will be in charge of the studio for the month. I will post additional open studios for November at a reduced rate\, since I will not be there to advise and help.  \nPrerequisite: 2 previous classes or workshops with me\, or a completed 4 week or more class. Limit of 4 people per class.  \nThis workshop is best for students who can work independently\, and are comfortable with the rules of the studio. \nClick here to reserve your seat. 
URL:https://oldschoolclayandceramics.com/event/open-studio-nov-2/
LOCATION:Old School Clay and Ceramics\, 145 Main St\, Groton\, Ma\, 01450
ATTACH;FMTTYPE=image/jpeg:https://oldschoolclayandceramics.com/wp-content/uploads/2021/04/cropped-old-school-logo-scaled-1.jpg
ORGANIZER;CN="Old School Clay and Ceramics":MAILTO:whistlewood1@gmail.com
END:VEVENT
BEGIN:VEVENT
DTSTART;TZID=America/Halifax:20221109T133000
DTEND;TZID=America/Halifax:20221109T160000
DTSTAMP:20260425T235926
CREATED:20221031T162529Z
LAST-MODIFIED:20221031T163303Z
UID:1806-1668000600-1668009600@oldschoolclayandceramics.com
SUMMARY:Open Studio - Nov 9
DESCRIPTION:Feeling creative!? Join us Wednesday Afternoons from 1:30 – 4 pm to make your own creations. I will be available to provide technical assistance for you to achieve your clay ideas***. Pretty much no limit on what you can make. I plan to offer this option for open studio through most of the fall\, that is\, through November. This option will likely change in the winter.  \nThis will be a test run for the month of November \, where clay and materials are  included in the price.  If you make something at home\, or take something home to work on\, you will be charged an additional fee for glazes and/or  firing.  If you have never done an open studio before\, it is good to come to the workshop with the intention of making 3 things (3 plates\, mugs\, bowls…) You may not make all 3\, but you will get a good start on them. I will help you with technical advice for construction of your design.  If you plan to work on the wheel\, you need to plan on at least 2 more open studios\, one more to trim your pots\, and a final one to glaze.  \nPLEASE READ ***: I will not be attending this open studio. A few of the regular Wednesday crowd said they would like to continue and will be in charge of the studio for the month. If you attend this open studio\, I will try to be available via phone and text\, but for those who know me\, know I am not really sure what to expect for the month.  \nPrerequisite: 2 previous classes or workshops with me\, or a completed 4 week or more class. Limit of 4 people per class.  \nThis workshop is best for students who can work independently\, and are comfortable with the rules of the studio. \nTo reserve your seat\, click here. 
URL:https://oldschoolclayandceramics.com/event/open-studio-nov-9/
LOCATION:Old School Clay and Ceramics\, 145 Main St\, Groton\, Ma\, 01450
CATEGORIES:Workshop
ATTACH;FMTTYPE=image/jpeg:https://oldschoolclayandceramics.com/wp-content/uploads/2021/04/cropped-old-school-logo-scaled-1.jpg
ORGANIZER;CN="Old School Clay and Ceramics":MAILTO:whistlewood1@gmail.com
END:VEVENT
BEGIN:VEVENT
DTSTART;TZID=America/Halifax:20221116T133000
DTEND;TZID=America/Halifax:20221116T160000
DTSTAMP:20260425T235926
CREATED:20221031T163539Z
LAST-MODIFIED:20221031T163539Z
UID:1809-1668605400-1668614400@oldschoolclayandceramics.com
SUMMARY:Open Studio - Nov 16
DESCRIPTION:Feeling creative!? Join us Wednesday Afternoons from 1:30 – 4 pm to make your own creations. I will be available to provide technical assistance for you to achieve your clay ideas***. Pretty much no limit on what you can make. I plan to offer this option for open studio through most of the fall\, that is\, through November. This option will likely change in the winter.  \nThis will be a test run for the month of November \, where clay and materials are  included in the price.  If you make something at home\, or take something home to work on\, you will be charged an additional fee for glazes and/or  firing.  If you have never done an open studio before\, it is good to come to the workshop with the intention of making 3 things (3 plates\, mugs\, bowls…) You may not make all 3\, but you will get a good start on them. I will help you with technical advice for construction of your design.  If you plan to work on the wheel\, you need to plan on at least 2 more open studios\, one more to trim your pots\, and a final one to glaze.  \nPLEASE READ ***: I will not be attending this open studio. A few of the regular Wednesday crowd said they would like to continue and will be in charge of the studio for the month. If you attend this open studio\, I will try to be available via phone and text\, but for those who know me\, know I am not really sure what to expect for the month.  \nPrerequisite: 2 previous classes or workshops with me\, or a completed 4 week or more class. Limit of 4 people per class.  \nThis workshop is best for students who can work independently\, and are comfortable with the rules of the studio. \nTo reserve your seat\, click here. 
URL:https://oldschoolclayandceramics.com/event/open-studio-nov-16/
LOCATION:Old School Clay and Ceramics\, 145 Main St\, Groton\, Ma\, 01450
CATEGORIES:Workshop
ATTACH;FMTTYPE=image/jpeg:https://oldschoolclayandceramics.com/wp-content/uploads/2021/04/cropped-old-school-logo-scaled-1.jpg
ORGANIZER;CN="Old School Clay and Ceramics":MAILTO:whistlewood1@gmail.com
END:VEVENT
BEGIN:VEVENT
DTSTART;TZID=America/Halifax:20221130T133000
DTEND;TZID=America/Halifax:20221130T160000
DTSTAMP:20260425T235926
CREATED:20221031T164038Z
LAST-MODIFIED:20221031T164038Z
UID:1814-1669815000-1669824000@oldschoolclayandceramics.com
SUMMARY:Open Studio - Nov 30
DESCRIPTION:Feeling creative!? Join us Wednesday Afternoons from 1:30 – 4 pm to make your own creations. I will be available to provide technical assistance for you to achieve your clay ideas****. Pretty much no limit on what you can make. I plan to offer this option for open studio through most of the fall \, that is\, through November. This option will likely change in the winter.  \nThis will be a test run for the month of November \, where clay and materials are  included in the price.  If you make something at home\, or take something home to work on\, you will be charged an additional fee for glazes and/or  firing.  If you have never done an open studio before\, it is good to come to the workshop with the intention of making 3 things (3 plates\, mugs\, bowls…) You may not make all 3\, but you will get a good start on them. I will help you with technical advice for construction of your design.  If you plan to work on the wheel\, you need to plan on at least 2 more open studios\, one more to trim your pots\, and a final one to glaze.  \nPLEASE READ ***: I will not be attending this open studio. A few of the regular Wednesday crowd said they would like to continue and will be in charge of the studio for the month. If you attend this open studio\, I will try to be available via phone and text\, but for those who know me\, know I am not really sure what to expect for the month.  \nPrerequisite: 2 previous classes or workshops with me\, or a completed 4 week or more class. Limit of 4 people per class.  \nThis workshop is best for students who can work independently\, and are comfortable with the rules of the studio. \n 
URL:https://oldschoolclayandceramics.com/event/open-studio-nov-30/
LOCATION:Old School Clay and Ceramics\, 145 Main St\, Groton\, Ma\, 01450
CATEGORIES:Workshop
ATTACH;FMTTYPE=image/jpeg:https://oldschoolclayandceramics.com/wp-content/uploads/2021/04/cropped-old-school-logo-scaled-1.jpg
ORGANIZER;CN="Old School Clay and Ceramics":MAILTO:whistlewood1@gmail.com
END:VEVENT
END:VCALENDAR