BEGIN:VCALENDAR
VERSION:2.0
PRODID:-//Old School Clay and Ceramics - ECPv6.15.20//NONSGML v1.0//EN
CALSCALE:GREGORIAN
METHOD:PUBLISH
X-WR-CALNAME:Old School Clay and Ceramics
X-ORIGINAL-URL:https://oldschoolclayandceramics.com
X-WR-CALDESC:Events for Old School Clay and Ceramics
REFRESH-INTERVAL;VALUE=DURATION:PT1H
X-Robots-Tag:noindex
X-PUBLISHED-TTL:PT1H
BEGIN:VTIMEZONE
TZID:America/New_York
BEGIN:DAYLIGHT
TZOFFSETFROM:-0500
TZOFFSETTO:-0400
TZNAME:EDT
DTSTART:20240310T070000
END:DAYLIGHT
BEGIN:STANDARD
TZOFFSETFROM:-0400
TZOFFSETTO:-0500
TZNAME:EST
DTSTART:20241103T060000
END:STANDARD
BEGIN:DAYLIGHT
TZOFFSETFROM:-0500
TZOFFSETTO:-0400
TZNAME:EDT
DTSTART:20250309T070000
END:DAYLIGHT
BEGIN:STANDARD
TZOFFSETFROM:-0400
TZOFFSETTO:-0500
TZNAME:EST
DTSTART:20251102T060000
END:STANDARD
BEGIN:DAYLIGHT
TZOFFSETFROM:-0500
TZOFFSETTO:-0400
TZNAME:EDT
DTSTART:20260308T070000
END:DAYLIGHT
BEGIN:STANDARD
TZOFFSETFROM:-0400
TZOFFSETTO:-0500
TZNAME:EST
DTSTART:20261101T060000
END:STANDARD
END:VTIMEZONE
BEGIN:VEVENT
DTSTART;TZID=America/New_York:20250502T180000
DTEND;TZID=America/New_York:20250502T200000
DTSTAMP:20260424T032915
CREATED:20250328T123717Z
LAST-MODIFIED:20250420T011410Z
UID:5954-1746208800-1746216000@oldschoolclayandceramics.com
SUMMARY:Raku - Make a Luminaire Tree
DESCRIPTION:You have seen the process on the Great Pottery Throwdown…now come do it yourself. Raku is the fun\, instant gratification (most times)\, playing with fire\, pottery process. The kiln reaches temperature fairly quickly\, and the pots are pulled out of the kiln red hot\, placed into a container of combustible materials\, which then ignites. Once the fire is really going\, a lid is put on the bin\, extinguishing the fire. What happens is that the glazes\, through the reduction of oxygen\, turn cool metallic colors.  \nThis workshop will take place Friday May 2 from  6 – 8 pm.  This project is good for beginners\, but given the nature of raku – not suitable for children.  \nIn this workshop\, you will be a given a slab of clay\, from which you will be led through the steps of creating a luminaire. I have included pictures of a couple of different ways to make them – or let your imagination lead the way.  \n \nOnce your tree is made\, it will be bisque fired. This firing burns out the organic material from the clay\, and makes it sturdy enough to be glazed. Once the piece has been bisqued\, you will be notified. You will then come pick up your piece and hold it until the raku firing you sign up for happens.  \nDuring the summer\, I will be doing raku firings. I am hoping to have 8 people per firing to help. You will sign up for a firing  on the Old School Clay website that works with your schedule. The day you sign up\, you will bring your pot and glaze it.  \n \nThen we will do the firing. There will be no additional charge for the firing. My expectation is that I will do firings on Tuesday Evenings 6 – 8 pm and Saturdays  noon to 2 pm. If it is too hot or rain is expected\, the firing may be cancelled or rescheduled or postponed.  \nPlease familiarize yourself with the rules of the studio before signing up. \n \nThese are a couple of good videos about raku – if you are not familiar with the process.  \n  \nTo sign up for this workshop\, click here\n \n \n 
URL:https://oldschoolclayandceramics.com/event/raku-make-a-luminaire-tree/
LOCATION:Old School Clay and Ceramics\, 145 Main St\, Groton\, Ma\, 01450
CATEGORIES:Workshop
ATTACH;FMTTYPE=image/jpeg:https://oldschoolclayandceramics.com/wp-content/uploads/2025/03/xmas-tree-raku-2.jpg
ORGANIZER;CN="Old School Clay and Ceramics":MAILTO:whistlewood1@gmail.com
END:VEVENT
BEGIN:VEVENT
DTSTART;TZID=America/New_York:20250504T140000
DTEND;TZID=America/New_York:20250504T160000
DTSTAMP:20260424T032915
CREATED:20250415T011711Z
LAST-MODIFIED:20250415T011711Z
UID:6063-1746367200-1746374400@oldschoolclayandceramics.com
SUMMARY:Drop In Sunday - Make a Vase
DESCRIPTION:Spring is coming and this workshop is an opportunity to show off beautiful spring flowers in a vase you make yourself.  Choose between a premade tube of clay – either round or square 8 inches tall\, about 2.5 inches\, and then decorate it. The studio has countless cookie cutters and fondant cutters to add decoration.  There is no end to the designs that are possible. Add clay to make flowers\, add texture\, make a mountain scene…no end to where your imagination will take you. Students will also finish the tube so that it holds water. Come back two weeks later\, at the same time to glaze your vase. Depending on how much detail you include\, it is likely that each class will take the full 2 hours provided.  \nFunctional art. Once finished\, the vase will be dishwasher safe. Pay online or at the studio with cash.  \nThis workshop is for Sunday May 4.  \nTo reserve a seat for this workshop – vase\nPlease review the studio rules before committing to this workshop
URL:https://oldschoolclayandceramics.com/event/drop-in-sunday-make-a-vase/
LOCATION:Old School Clay and Ceramics\, 145 Main St\, Groton\, Ma\, 01450
CATEGORIES:Workshop
ATTACH;FMTTYPE=image/jpeg:https://oldschoolclayandceramics.com/wp-content/uploads/2021/12/flower-vase-rotated-e1688735016606.jpg
ORGANIZER;CN="Old School Clay and Ceramics":MAILTO:whistlewood1@gmail.com
END:VEVENT
BEGIN:VEVENT
DTSTART;TZID=America/New_York:20250509T180000
DTEND;TZID=America/New_York:20250509T200000
DTSTAMP:20260424T032915
CREATED:20250328T125059Z
LAST-MODIFIED:20250420T012411Z
UID:5958-1746813600-1746820800@oldschoolclayandceramics.com
SUMMARY:Raku - Make a Decorative Fish
DESCRIPTION:You have seen the process on the Great Pottery Throwdown…now come do it yourself. Raku is the fun\, instant gratification (most times)\, playing with fire\, pottery process. The kiln reaches temperature fairly quickly\, and the pots are pulled out of the kiln red hot\, placed into a container of combustible materials\, which then ignites. Once the fire is really going\, a lid is put on the bin\, extinguishing the fire. What happens is that the glazes\, \n  \nthrough the reduction of oxygen\, turn cool metallic colors. Clay that is not glazed turns black through the carbonization of the combustibles.  \nThis workshop will take place Friday May 9 from  6 – 8 pm.  It is suitable for folks who have no experience working with clay of raku\, but given the nature of raku – not suitable for children.  \nIn this workshop\, you will be a given a slab of clay\, during which you will be led through the steps of creating a fish that you can hang on your wall. The metallics of the glazes are perfect to replicate the shininess of fish.  The fish that is the product image\, I made\, but I have included some other pictures for inspriation.   I would request that during this workshop – you will only make a fish. The collaboration and creative process of sharing ideas\, leads to all making a better product.  \nSome of the results from recent raku firings at Old School Clay\n\n\n\n	\n		\n			\n			\n		\n\n		\n		\n			\n			\n		\n\n		\n		\n			\n			\n		\n\n		\n		\n			\n			\n		\n\n		\n		\n			\n			\n		\n\n		\n		\n			\n			\n		\n\n		\n		\n			\n			\n		\n\n		\n		\n			\n			\n		\n\n		\n		\n			\n			\n		\n\n		\n		\n			\n			\n		\n\n		\n		\n			\n			\n		\n\n		\n		\n			\n			\n		\n\n		\n		\n			\n			\n		\n\n		\n		\n			\n			\n		\n\n		\n		\n			\n			\n		\n\n		\n		\n			\n			\n		\n\n		\n		\n			\n			\n		\n\n		\n		\n			\n			\n		\n\n		\n		\n			\n			\n		\n\n		\n		\n			\n			\n		\n\n		\n		\n			\n			\n		\n\n		\n		\n			\n			\n		\n\n		\n		\n			\n			\n		\n\n		\n		\n			\n			\n		\n\n		\n		\n			\n			\n		\n\n		\n		\n			\n			\n		\n\n		\n		\n			\n			\n		\n\n		\n		\n			\n			\n		\n\n		\n		\n			\n			\n		\n\n		\n		\n			\n			\n		\n\n		\n		\n			\n			\n		\n\n		\n		\n			\n			\n		\n\n		\n		\n			\n			\n		\n\n		\n		\n			\n			\n		\n\n		\n		\n			\n			\n		\n\n		\n		\n			\n			\n		\n\n		\n		\n			\n			\n		\n\n		\n		\n			\n			\n		\n\n		\n		\n			\n			\n		\n\n		\n		\n			\n			\n		\n\n		\n\n\nOnce your fish is made\, it will be bisque fired. This firing burns out the organic material from the clay\, and makes it sturdy enough to be glazed. Once the piece has been bisqued\, you will be notified. You will then come pick up your piece and hold it until the raku firing you sign up for happens.  \n \nDuring the summer\, I will be doing raku firings. I am hoping to have 8 people per firing to help. You will sign up for a firing  on the Old School Clay website that works with your schedule. The day you sign up\, you will bring your fish and glaze it. Then we will do the firing. There will be no additional charge for the firing. My expectation is that I will do firings on Tuesday Evenings 6 – 8 pm and Saturdays  noon to 2 pm. If it is too hot or rain is expected\, the firing may be cancelled or rescheduled or postponed.  \nThese are a couple of good videos about raku – if you are not familiar with the process.  \nTo sign up for this workshop\, click here.\nPlease familiarize yourself with the rules of the studio before committing to this workshop.\n \n \n 
URL:https://oldschoolclayandceramics.com/event/raku-make-a-decortive-fish/
LOCATION:Old School Clay and Ceramics\, 145 Main St\, Groton\, Ma\, 01450
CATEGORIES:Workshop
ATTACH;FMTTYPE=image/jpeg:https://oldschoolclayandceramics.com/wp-content/uploads/2025/03/fish-raku.jpg
ORGANIZER;CN="Old School Clay and Ceramics":MAILTO:whistlewood1@gmail.com
END:VEVENT
END:VCALENDAR