BEGIN:VCALENDAR
VERSION:2.0
PRODID:-//Old School Clay and Ceramics - ECPv6.15.20//NONSGML v1.0//EN
CALSCALE:GREGORIAN
METHOD:PUBLISH
X-WR-CALNAME:Old School Clay and Ceramics
X-ORIGINAL-URL:https://oldschoolclayandceramics.com
X-WR-CALDESC:Events for Old School Clay and Ceramics
REFRESH-INTERVAL;VALUE=DURATION:PT1H
X-Robots-Tag:noindex
X-PUBLISHED-TTL:PT1H
BEGIN:VTIMEZONE
TZID:America/New_York
BEGIN:DAYLIGHT
TZOFFSETFROM:-0500
TZOFFSETTO:-0400
TZNAME:EDT
DTSTART:20240310T070000
END:DAYLIGHT
BEGIN:STANDARD
TZOFFSETFROM:-0400
TZOFFSETTO:-0500
TZNAME:EST
DTSTART:20241103T060000
END:STANDARD
BEGIN:DAYLIGHT
TZOFFSETFROM:-0500
TZOFFSETTO:-0400
TZNAME:EDT
DTSTART:20250309T070000
END:DAYLIGHT
BEGIN:STANDARD
TZOFFSETFROM:-0400
TZOFFSETTO:-0500
TZNAME:EST
DTSTART:20251102T060000
END:STANDARD
BEGIN:DAYLIGHT
TZOFFSETFROM:-0500
TZOFFSETTO:-0400
TZNAME:EDT
DTSTART:20260308T070000
END:DAYLIGHT
BEGIN:STANDARD
TZOFFSETFROM:-0400
TZOFFSETTO:-0500
TZNAME:EST
DTSTART:20261101T060000
END:STANDARD
END:VTIMEZONE
BEGIN:VEVENT
DTSTART;TZID=America/New_York:20250105T140000
DTEND;TZID=America/New_York:20250105T160000
DTSTAMP:20260424T093323
CREATED:20250101T133406Z
LAST-MODIFIED:20250105T012919Z
UID:5348-1736085600-1736092800@oldschoolclayandceramics.com
SUMMARY:Drop In Sunday - Folded Bowl
DESCRIPTION:Looking for something to do with friends and family who may be visiting this week? How about a folded bowl? Functional\, attractive\, and a fun creative project for all ages.  \nUsing a prepared slab of clay\, you will be led through the steps to make a bowl similar to the ones pictured. Make it yours by adding texture\, or clay decorations.  Two different templates from which to choose.  \nCome back in 2 weeks to glaze your bowl. Choose from one of 3 glazes – blue\, green or white\, or choose from the nearly full pallette of underglaze colors.  The final bowl is about 6 x 4 x 2 inches. \nThis is the project for Sunday 1/5/25. The drop in workshop is offered from 2 – 4 pm.  It will probably take you about half an hour to make the bowl. The more detail you add the longer it will take. You can come any time between those hours – just plan on half an hour to make the project. \nA different project will be offered every week. Projects for the new year include many holiday themed ideas. Once glazed and fired the pots will be dishwasher safe\, microwaveable and oven proof. For more information about future projects. \nPayment may be made through this website or at the door with cash. \nTo sign up for the folded bowl drop in sunday\, click here\n \n  \nPlease review my studio rules.
URL:https://oldschoolclayandceramics.com/event/drop-in-sunday-folded-bowl/
LOCATION:Old School Clay and Ceramics\, 145 Main St\, Groton\, Ma\, 01450
CATEGORIES:Workshop
ATTACH;FMTTYPE=image/jpeg:https://oldschoolclayandceramics.com/wp-content/uploads/2024/12/basketbowl-e1735086476174.jpg
ORGANIZER;CN="Old School Clay and Ceramics":MAILTO:whistlewood1@gmail.com
END:VEVENT
BEGIN:VEVENT
DTSTART;TZID=America/New_York:20250112T140000
DTEND;TZID=America/New_York:20250112T160000
DTSTAMP:20260424T093323
CREATED:20250108T165923Z
LAST-MODIFIED:20250108T172249Z
UID:5379-1736690400-1736697600@oldschoolclayandceramics.com
SUMMARY:Drop In Sunday - Make a Free Form Bowl
DESCRIPTION:During this January 12 Sunday drop in\, you will work with a slab of clay\, about 8.5 x 11\, and provided  directions  to make a free form bowl.  \nThe process is to cut out an amoeba shape out of the clay\, drape it over a mold\, and shape.  You can add a foot to elevate your bowl and give it some elegance.  \nCome back after two weeks and glaze it. You can choose between white\, green or blue glaze\, or use an underglaze\, more or less a complete color palette\,  with a clear gloss coat to add color. Use the white\, blue and green glaze in combination for a drippy look! \nYou can pick up your bowl within 3 weeks from when you glaze it. \nThis is the project for Sunday 5/51/12. The drop in workshop is offered from 2 – 4 pm.  It will probably take you about an hour to make the bowl. A different project will be offered each week. \nPayment may be made through this website or at the door with cash. Attending a drop in studio does not count towards the prerequisite requirements for attending open studio.  \nTo sign up for this workshop\, click here\nFor more information about future Drop In Sundays – click here\nPlease familiarize your self with my studio rules. 
URL:https://oldschoolclayandceramics.com/event/drop-in-sunday-mke-a-free-form-bowl/
LOCATION:Old School Clay and Ceramics\, 145 Main St\, Groton\, Ma\, 01450
CATEGORIES:Workshop
ATTACH;FMTTYPE=image/jpeg:https://oldschoolclayandceramics.com/wp-content/uploads/2024/02/freeform1.jpg
ORGANIZER;CN="Old School Clay and Ceramics":MAILTO:whistlewood1@gmail.com
END:VEVENT
BEGIN:VEVENT
DTSTART;TZID=America/New_York:20250116T130000
DTEND;TZID=America/New_York:20250116T150000
DTSTAMP:20260424T093323
CREATED:20241213T160108Z
LAST-MODIFIED:20241229T160349Z
UID:5187-1737032400-1737039600@oldschoolclayandceramics.com
SUMMARY:Make 4 Ceramic Bread Plates
DESCRIPTION:  \nNever worked with clay before? No problem! Using molds\, you will be led through the steps to make 4 bread plates. We will use texture to decorate and molds to form your plates. Choose from over 20 different rolling pins or countless stamps or texture plates. The first class you will make the plates\,  the second class you will glaze your plates. Once glazed and fired\, your plates will be dishwasher safe\, microwavable and oven proof.  \nThe class will take place January 16 and 23 from 1 – 3 pm.  \nTo sign up for this workshop\, please click here. \nThe class starts promptly at 1 pm. Please arrive on time. \nPlease review the rules of the studio . 
URL:https://oldschoolclayandceramics.com/event/make-4-ceramic-bread-plates/
LOCATION:Old School Clay and Ceramics\, 145 Main St\, Groton\, Ma\, 01450
CATEGORIES:Workshop
ATTACH;FMTTYPE=image/jpeg:https://oldschoolclayandceramics.com/wp-content/uploads/2023/07/PXL_20230731_123551377.PORTRAIT.jpg
ORGANIZER;CN="Old School Clay and Ceramics":MAILTO:whistlewood1@gmail.com
END:VEVENT
BEGIN:VEVENT
DTSTART;TZID=America/New_York:20250119T140000
DTEND;TZID=America/New_York:20250119T160000
DTSTAMP:20260424T093323
CREATED:20250108T005025Z
LAST-MODIFIED:20250119T171440Z
UID:5376-1737295200-1737302400@oldschoolclayandceramics.com
SUMMARY:CANCELLED -Drop In Sunday - Valentine's Wind Chime
DESCRIPTION:For the month of January\, the Sunday Drop In Workshop will focus on making Valentine themed items. Sunday\, January 19\, (weather permitting) we will be making a heart shaped wall hanging. You will be provided with one slab of clay\, about 8 x 11 inches\, heart template\, and instructions and help on how to make it. Use the template\, or make a wall hanging of your own design. You can add beads or pendants to hang from it\, or texture to add interest… Lots of different ways to make it special. A perfect gift for yourself\, or someone special. This is a good project for all ages. \nFinal assembly is your responsibility.  \nSunday drop in projects are meant to take a half hour to make. Come back the following week and glaze it. Your project should be ready for pick up within 3 weeks of you glazing it. Don’t have time to glaze it – let one of our staff help. Payment can be made through this website\, or in person with cash \nTo reserve your seat – click here\nPlease review my studio rules before committing to this workshop.\n 
URL:https://oldschoolclayandceramics.com/event/drop-in-sunday-valentines-wind-chime/
LOCATION:Old School Clay and Ceramics\, 145 Main St\, Groton\, Ma\, 01450
CATEGORIES:Workshop
ATTACH;FMTTYPE=image/jpeg:https://oldschoolclayandceramics.com/wp-content/uploads/2024/01/heart-wall-hanging-.jpg
ORGANIZER;CN="Old School Clay and Ceramics":MAILTO:whistlewood1@gmail.com
END:VEVENT
BEGIN:VEVENT
DTSTART;TZID=America/New_York:20250120T130000
DTEND;TZID=America/New_York:20250120T150000
DTSTAMP:20260424T093323
CREATED:20241216T174733Z
LAST-MODIFIED:20250120T153134Z
UID:5206-1737378000-1737385200@oldschoolclayandceramics.com
SUMMARY:POSTPONED - Make a Planter
DESCRIPTION:DUE TO ME BEING SICK\, THIS HAS BEEN PUSHED OFF A WEEK. tHE DATES NOW ARE: JANURAY 27 AND FEBRUARY 3 \nJoin us Monday January 20 and 27  from 1 -3 pm to make a planter. Using a mold\,and a slab of clay\,  you will be led through the steps to make a planter pictured – or one very similar reflecting your own style and flare.  We will use texture to decorate the planter – the studio has more than 20 rolling pins\, numerous\, stamps\, and multiple texture plates. What a great opportunity to show off a favorite plant! Or use it to hold those paper whites you got as a gift. The first class we will make the planter\, the second class you will glaze the pot.  \nMake a date with you best buddy – have lunch at one of Groton’s famous restaurants – then play with clay! \nTo sign up for this workshop\, please click here. \nThe class starts promptly at 1 pm. Please arrive on time. \nPlease review the rules of the studio . 
URL:https://oldschoolclayandceramics.com/event/make-a-planter-3/
LOCATION:Old School Clay and Ceramics\, 145 Main St\, Groton\, Ma\, 01450
CATEGORIES:Workshop
ATTACH;FMTTYPE=image/jpeg:https://oldschoolclayandceramics.com/wp-content/uploads/2023/01/PXL_20230128_154957379.PORTRAIT-scaled.jpg
ORGANIZER;CN="Old School Clay and Ceramics":MAILTO:whistlewood1@gmail.com
END:VEVENT
BEGIN:VEVENT
DTSTART;TZID=America/New_York:20250126T140000
DTEND;TZID=America/New_York:20250126T160000
DTSTAMP:20260424T093323
CREATED:20250107T235108Z
LAST-MODIFIED:20250107T235414Z
UID:5372-1737900000-1737907200@oldschoolclayandceramics.com
SUMMARY:Drop In Sunday - Make a Valentine's Pocket Planter (Vase)
DESCRIPTION:For the month of January\, the Sunday Drop In Workshop will focus on making Valentine themed items. Sunday we will be making a hanging heart shaped vase. You will be provided with a template\, and instructions and help on how to make it. Use it as a vase for flowers\, or plant it with a small succulent. You can add beads or pendants to hang from it\, or texture to add interest… Lots of different ways to make it special. A perfect gift for yourself\, or someone special. This is a good project for all ages. \nSunday drop in projects are meant to last a half hour to make. Come back the following week and glaze it. Your project should be ready for pick up within 3 weeks of you glazing it. Don’t have time to glaze it – let one of our staff help. Payment can be made through this website\, or in person with cash. \nI haven’t had a chance to glaze the example – pictures to follow soon. Included are pictures from the internet to inspire you. \nTo purchase ahead of time\, click here \nPlease review my studio rules before committing to this workshop.
URL:https://oldschoolclayandceramics.com/event/drop-in-sunday-make-a-valentines-pocket-planter-vase/
LOCATION:Old School Clay and Ceramics\, 145 Main St\, Groton\, Ma\, 01450
CATEGORIES:Workshop
ATTACH;FMTTYPE=image/png:https://oldschoolclayandceramics.com/wp-content/uploads/2023/12/Screenshot-2023-12-28-133948.png
ORGANIZER;CN="Old School Clay and Ceramics":MAILTO:whistlewood1@gmail.com
END:VEVENT
END:VCALENDAR