BEGIN:VCALENDAR
VERSION:2.0
PRODID:-//Old School Clay and Ceramics - ECPv6.15.20//NONSGML v1.0//EN
CALSCALE:GREGORIAN
METHOD:PUBLISH
X-WR-CALNAME:Old School Clay and Ceramics
X-ORIGINAL-URL:https://oldschoolclayandceramics.com
X-WR-CALDESC:Events for Old School Clay and Ceramics
REFRESH-INTERVAL;VALUE=DURATION:PT1H
X-Robots-Tag:noindex
X-PUBLISHED-TTL:PT1H
BEGIN:VTIMEZONE
TZID:America/New_York
BEGIN:DAYLIGHT
TZOFFSETFROM:-0500
TZOFFSETTO:-0400
TZNAME:EDT
DTSTART:20230312T070000
END:DAYLIGHT
BEGIN:STANDARD
TZOFFSETFROM:-0400
TZOFFSETTO:-0500
TZNAME:EST
DTSTART:20231105T060000
END:STANDARD
BEGIN:DAYLIGHT
TZOFFSETFROM:-0500
TZOFFSETTO:-0400
TZNAME:EDT
DTSTART:20240310T070000
END:DAYLIGHT
BEGIN:STANDARD
TZOFFSETFROM:-0400
TZOFFSETTO:-0500
TZNAME:EST
DTSTART:20241103T060000
END:STANDARD
BEGIN:DAYLIGHT
TZOFFSETFROM:-0500
TZOFFSETTO:-0400
TZNAME:EDT
DTSTART:20250309T070000
END:DAYLIGHT
BEGIN:STANDARD
TZOFFSETFROM:-0400
TZOFFSETTO:-0500
TZNAME:EST
DTSTART:20251102T060000
END:STANDARD
END:VTIMEZONE
BEGIN:VEVENT
DTSTART;TZID=America/New_York:20241003T160000
DTEND;TZID=America/New_York:20241003T180000
DTSTAMP:20260424T142552
CREATED:20240916T133158Z
LAST-MODIFIED:20240927T020103Z
UID:4663-1727971200-1727978400@oldschoolclayandceramics.com
SUMMARY:Make a Spaghetti Bowl - Use Leaves or Texture
DESCRIPTION:This is a beginner class – no experience needed!  All ages over 12 years welcome! (Younger children should be accompanied) Even if you are experienced\, though\, this will still be a great class! \nJoin us on October 3 and 10 from 4 – 6  pm to make a bowl\, decorated with leaves!  This bowl\, which is about 10 inches wide\, and is oven and dishwasher safe\, microwavable and food safe. It is deep\, making it a good spaghetti bowl. If you don’t want to use leaves\, you could use any of the 20 rolling pins of the studio to make a texture. Pictured below is the mushroom rolling pin.  \nDuring this 2 day workshop you will be led through the steps to make your very own bowl.  The first day\, which will take about 1 hour\,  we will make the bowl. The bowl is made from a slab of clay\, molded\, and then finished on the wheel. Once the bowl is made\, you can finish it any way you want. A number of different methods of decorating  will be covered\, including use of texture\, or using leaves.   The focus will be on using leaves\,  though you can finish it as you like. The second scheduled day\, you will glaze the bowl. Two different methods of glazing will be covered – the first you wipe back the glaze\, highlighting the “fossil” left by the  leaf\, the second\, you can paint each individual leaf. Depending on which method you choose\, the second class could take an hour to 2 hours. Your plate will be ready for you to take home within 3 weeks of you finishing it.  \n \nThe workshop will take place October 3 and 10  from 4 – 6   pm.  \nThe class is limited to 6 people.  \nPrevious student work: \n\n\n\n	\n		\n			\n			\n		\n\n		\n		\n			\n			\n		\n\n		\n		\n			\n			\n		\n\n		\n		\n			\n			\n		\n\n		\n		\n			\n			\n		\n\n		\n		\n			\n			\n		\n\n		\n		\n			\n			\n		\n\n		\n		\n			\n			\n		\n\n		\n		\n			\n			\n		\n\n		\n		\n			\n			\n		\n\n		\n		\n			\n			\n		\n\n		\n		\n			\n			\n		\n\n		\n		\n			\n			\n		\n\n		\n		\n			\n			\n		\n\n		\n		\n			\n			\n		\n\n		\n		\n			\n			\n		\n\n		\n		\n			\n			\n		\n\n		\n		\n			\n			\n		\n\n		\n		\n			\n			\n		\n\n		\n		\n			\n			\n		\n\n		\n		\n			\n			\n		\n\n		\n		\n			\n			\n		\n\n		\n		\n			\n			\n		\n\n		\n		\n			\n			\n		\n\n		\n		\n			\n			\n		\n\n		\n		\n			\n			\n		\n\n		\n		\n			\n			\n		\n\n		\n\n\nI have been teaching pottery and ceramics in a variety of situations\, for all age groups\, for more than 40 years. I absolutely love teaching and sharing my love of clay with others. \nTo reserve your seat click here.\nPlease review my studio rules before committing to this class.
URL:https://oldschoolclayandceramics.com/event/make-a-spaghetti-bowl-use-leaves-of-texture/
LOCATION:Old School Clay and Ceramics\, 145 Main St\, Groton\, Ma\, 01450
CATEGORIES:Workshop
ATTACH;FMTTYPE=image/jpeg:https://oldschoolclayandceramics.com/wp-content/uploads/2024/09/PXL_20240905_200201456.PORTRAIT-2-scaled-e1726066129443.jpg
ORGANIZER;CN="Old School Clay and Ceramics":MAILTO:whistlewood1@gmail.com
END:VEVENT
BEGIN:VEVENT
DTSTART;TZID=America/New_York:20241006T140000
DTEND;TZID=America/New_York:20241006T160000
DTSTAMP:20260424T142552
CREATED:20240909T145040Z
LAST-MODIFIED:20240918T132810Z
UID:4628-1728223200-1728230400@oldschoolclayandceramics.com
SUMMARY:Drop In Sunday - Make a Ghost
DESCRIPTION:Sunday\, October 6\,  we will be making ceramic ghosts. Use it to decorate your holiday table\, or add it as a focal point for a seasonal bouquet. \nYou will be provided with a slab of clay\, and a paper stencil. You will then trace around the stencil on the clay\, and then fold the clay up to make the ghost shape. The trick to this project is getting the clay fold to look like a draping sheet with gentle folds.  Cut out a face and it can be used as a luminaire.  \nFolding the clay up to make the ghost shape is a little bit tricky\, so it may not be an appropriate activity for the very young\, but I will leave it to you to decide what your child can do or can’t do.  \nThe cost is $15.  \nCome back in 2  weeks to glaze your ghost.  \nYour ghost will be ready for pick up  within 3 weeks from glazing. This is the project for Sunday 10/6. The drop in workshop is offered from 2  – 4 pm.  It will probably take you about half an hour to make the ghost. You can come any time between those hours – just plan on half an hour to make the ghost. A different project will be offered every weekend. Projects for the fall include pumpkins\, pine tree luminaires\, pine tree stands and other holiday oriented projects. Once glazed and fired the pots will be dishwasher safe\, microwaveable and oven proof.  \nHere is the schedule (subject to change) of Drop In Sunday’s going forward. \nPlease familiarize yourself with studio rules\n 
URL:https://oldschoolclayandceramics.com/event/drop-in-sunday-make-a-ghost/
LOCATION:Old School Clay and Ceramics\, 145 Main St\, Groton\, Ma\, 01450
CATEGORIES:Workshop
ATTACH;FMTTYPE=image/jpeg:https://oldschoolclayandceramics.com/wp-content/uploads/2023/08/PXL_20230923_230727366.PORTRAIT-1-scaled.jpg
ORGANIZER;CN="Old School Clay and Ceramics":MAILTO:whistlewood1@gmail.com
END:VEVENT
BEGIN:VEVENT
DTSTART;TZID=America/New_York:20241013T140000
DTEND;TZID=America/New_York:20241013T160000
DTSTAMP:20260424T142552
CREATED:20240916T142712Z
LAST-MODIFIED:20240918T132749Z
UID:4672-1728828000-1728835200@oldschoolclayandceramics.com
SUMMARY:Drop In Sunday - Crazy Cat Lady
DESCRIPTION:My plan is to have this drop in suncday project completed for you in time to celebrate on November 5. \nFor this Sunday Drop In project\, you will make a jar with a cat – as pictured. You will be supplied with a slab of clay\, which you will wrap around a form to make the jar. A template\, in the s \ncrazy cat lady\nhape of a cat\, will be created\, on which you can base your cat. The cat will be attached to the jar – and you can use letter stamps to create a label with whatever words you desire. This project will likely take an hour to make. \nHopefully\, the jars will be bisque fired during the week\, and you can come back the next weekend to glaze. In the event that they are not ready\, they will definitely be ready 2 weeks later. There is no addironal charge for glazing. You will be notified when your jar is ready for pick up. \nOnce this is glazed\, I will update the picture \nHere is the schedule (subject to change) of Drop In Sunday’s going forward. \nPlease familiarize yourself with the studio rules. 
URL:https://oldschoolclayandceramics.com/event/drop-in-sunday-crazy-cat-lady/
LOCATION:Old School Clay and Ceramics\, 145 Main St\, Groton\, Ma\, 01450
CATEGORIES:Workshop
ORGANIZER;CN="Old School Clay and Ceramics":MAILTO:whistlewood1@gmail.com
END:VEVENT
BEGIN:VEVENT
DTSTART;TZID=America/New_York:20241020T140000
DTEND;TZID=America/New_York:20241020T160000
DTSTAMP:20260424T142552
CREATED:20241003T130823Z
LAST-MODIFIED:20241003T131511Z
UID:4784-1729432800-1729440000@oldschoolclayandceramics.com
SUMMARY:Drop In Sunday - Make a Pumpkin
DESCRIPTION:Sunday\, October 20\, we will be making ceramic pumpkins. Use it to decorate your holiday table\, or add it as a focal point for a seasonal bouquet. \nYou will be provided with a slab of clay and a paper template. You will then trace around the stencil on the clay\, and then fold the clay up around a paper ball to make the pumpkin shape.  Add tendrils and leaves – you can use real leaves to get a beautiful vein imprint from the leaf.  \nFolding the clay up to make the pumpkin shape is a little bit tricky\, so it may not be an appropriate activity for the very young\, but I will leave it to you to decide what your child can do or can’t do.  \nThe cost is $15.  \nCome back  November 3 to glaze your pumpkin.  \nYour pumpkin will be ready for pick up  within 3 weeks from glazing (usually a week to two). This is the project for Sunday 10/20. The drop in workshop is offered from 2  – 4 pm.  It will probably take you about half an hour to make the pumpkin. You can come any time between those hours – just plan on half an hour to make the ghost. A different project will be offered every weekend. Projects for the fall include pumpkins\, pine tree luminaires\, pine tree stands and other holiday oriented projects. Once glazed and fired the pots will be dishwasher safe\, microwaveable and oven proof.  \nTo prebuy a seat\, click here\nPlease familiarize yourself with studio rules\n 
URL:https://oldschoolclayandceramics.com/event/drop-in-sunday-make-a-pumpkin-2/
LOCATION:Old School Clay and Ceramics\, 145 Main St\, Groton\, Ma\, 01450
CATEGORIES:Workshop
ATTACH;FMTTYPE=image/jpeg:https://oldschoolclayandceramics.com/wp-content/uploads/2023/08/00100lrPORTRAIT_00100_BURST20210623150128932_COVER-edited.jpg
ORGANIZER;CN="Old School Clay and Ceramics":MAILTO:whistlewood1@gmail.com
END:VEVENT
BEGIN:VEVENT
DTSTART;TZID=America/New_York:20241027T140000
DTEND;TZID=America/New_York:20241027T160000
DTSTAMP:20260424T142552
CREATED:20241012T130948Z
LAST-MODIFIED:20241021T133303Z
UID:4812-1730037600-1730044800@oldschoolclayandceramics.com
SUMMARY:Make A Luminaire Tree - Drop In Sunday
DESCRIPTION:Sunday\, October 27\, we will be making ceramic trees that are cone shaped and can be used as votives. Use it to decorate your holiday table\, or add it as a focal point for a seasonal bouquet. \nYou will be provided with a slab of clay\, and a paper stencil. You can add texture using any one of the more than 20 rolling pins in the studio. You will then trace around the stencil on the clay\, and then fold the clay up to make the cone shape.  Cut out holes  and it can be used as a luminaire. Add a star or bird on top\, or leave it plain.  \nFolding the clay up to make the cone shape is a little bit tricky\, so it may not be an appropriate activity for the very young\, but I will leave it to you to decide what your child can do or can’t do. (It is basically the same process that was used to make the ghost) \nThe cost is $15.  \nCome back in 2  weeks to glaze your tree. Three colors of green or white will be available for glazing\, or use our nearly full pallette of underglazes for color.  \nYour tree will be ready for pick up  within 3 weeks from glazing. This is the project for Sunday 10/27. The drop in workshop is offered from 2  – 4 pm.  It will probably take you about half an hour to make the tree. You can come any time between those hours – just plan on half an hour to make the tree. A different project will be offered every weekend. Projects for the fall include pumpkins\, tree luminaires\, pine tree stands and other holiday oriented projects. Once glazed and fired the pots will be dishwasher safe\, microwaveable and oven proof.  \nTo pre-buy your seat\, click here\nPlease familiarize yourself with studio rules\n 
URL:https://oldschoolclayandceramics.com/event/make-a-ceramic-tree-drop-in-sunday/
LOCATION:Old School Clay and Ceramics\, 145 Main St\, Groton\, Ma\, 01450
CATEGORIES:Workshop
ATTACH;FMTTYPE=image/jpeg:https://oldschoolclayandceramics.com/wp-content/uploads/2021/06/00100lrPORTRAIT_00100_BURST20211014123708455_COVER-scaled.jpg
ORGANIZER;CN="Old School Clay and Ceramics":MAILTO:whistlewood1@gmail.com
END:VEVENT
END:VCALENDAR