BEGIN:VCALENDAR
VERSION:2.0
PRODID:-//Old School Clay and Ceramics - ECPv6.15.20//NONSGML v1.0//EN
CALSCALE:GREGORIAN
METHOD:PUBLISH
X-WR-CALNAME:Old School Clay and Ceramics
X-ORIGINAL-URL:https://oldschoolclayandceramics.com
X-WR-CALDESC:Events for Old School Clay and Ceramics
REFRESH-INTERVAL;VALUE=DURATION:PT1H
X-Robots-Tag:noindex
X-PUBLISHED-TTL:PT1H
BEGIN:VTIMEZONE
TZID:America/New_York
BEGIN:DAYLIGHT
TZOFFSETFROM:-0500
TZOFFSETTO:-0400
TZNAME:EDT
DTSTART:20220313T070000
END:DAYLIGHT
BEGIN:STANDARD
TZOFFSETFROM:-0400
TZOFFSETTO:-0500
TZNAME:EST
DTSTART:20221106T060000
END:STANDARD
BEGIN:DAYLIGHT
TZOFFSETFROM:-0500
TZOFFSETTO:-0400
TZNAME:EDT
DTSTART:20230312T070000
END:DAYLIGHT
BEGIN:STANDARD
TZOFFSETFROM:-0400
TZOFFSETTO:-0500
TZNAME:EST
DTSTART:20231105T060000
END:STANDARD
BEGIN:DAYLIGHT
TZOFFSETFROM:-0500
TZOFFSETTO:-0400
TZNAME:EDT
DTSTART:20240310T070000
END:DAYLIGHT
BEGIN:STANDARD
TZOFFSETFROM:-0400
TZOFFSETTO:-0500
TZNAME:EST
DTSTART:20241103T060000
END:STANDARD
END:VTIMEZONE
BEGIN:VEVENT
DTSTART;TZID=America/New_York:20231015T140000
DTEND;TZID=America/New_York:20231015T160000
DTSTAMP:20260425T090145
CREATED:20231013T131856Z
LAST-MODIFIED:20231013T134409Z
UID:2878-1697378400-1697385600@oldschoolclayandceramics.com
SUMMARY:Sunday Drop In - Make a Ghost
DESCRIPTION:This weekend\, Sunday\,  October 15\, Make a Ghost \nThe drop in workshop is offered from 2 – 4 pm\, Sunday afternoons.  The projects will take about half an hour to make. You can come any time between those hours – just plan on half an hour to make the project. A different project will be offered every weekend. Sign up for the following week’s project\, and you can glaze your pot\, too\, or let one of our staff glaze the pot for you. You can pick up your pot 3 weeks from when you make it. Once glazed and fired the pots will be dishwasher safe\, microwavable and oven proof.  \n\n\n\nPayment may be made through this website or at the door with cash. \nOld School Clay will be expanding into the adjoining room\, which will make Drop In Studio a lot easier for me to manage. It should also mean that I will be able to accommodate more people at one time. \n\nOld School Clay is located in the ground floor of the Prescott Community Center. The easiest way to find the studio is to come through the back door\, and down the ramp. The studio is the first or second door on the left. \nTo purchase a seat\, click here.\nAttending the drop in studios does not count towards fulfilling the prerequisites for open studio. Please review my studio rules.
URL:https://oldschoolclayandceramics.com/event/sunday-drop-in-make-a-ghost/
LOCATION:Old School Clay and Ceramics\, 145 Main St\, Groton\, Ma\, 01450
CATEGORIES:Workshop
ATTACH;FMTTYPE=image/jpeg:https://oldschoolclayandceramics.com/wp-content/uploads/2023/09/ghost.jpg
ORGANIZER;CN="Old School Clay and Ceramics":MAILTO:whistlewood1@gmail.com
END:VEVENT
BEGIN:VEVENT
DTSTART;TZID=America/New_York:20231022T140000
DTEND;TZID=America/New_York:20231022T160000
DTSTAMP:20260425T090145
CREATED:20231016T125851Z
LAST-MODIFIED:20231016T125851Z
UID:2884-1697983200-1697990400@oldschoolclayandceramics.com
SUMMARY:Sunday Drop In - Make a Leaf Bowl
DESCRIPTION:Using a prepared slab of clay\, and a large leaf (likely a catalpa\, grape\, hosta or norfolk maple)\, you will be led through the steps to make a bowl. The bowl will be big enough for trinkets\, nuts\, or keys. or whatever you think of!  \n \nPictured are bowls made by other artists typical of what you could make. I used to make these bowls when I taught camp\, and they always turned out great. Any age can be successful with project. \nSign up for the following week’s project\, and you can glaze your pot\, too\, or let one of our staff glaze the pot for you. You can pick up your pot 3 weeks from when you make it. \nThis is the project for Sunday 10/22. The drop in workshop is offered from 2 – 4 pm.  It will probably take you about half an hour to make the bowl. You can come any time between those hours – just plan on half an hour to make the bowl. A different project will be offered every weekend. Projects for the fall include pumpkins\, pine tree luminaires\, and pine tree stands. Once glazed and fired the pots will be dishwasher safe\, microwaveable and oven proof.   \nSchedule for future projects here. \nPayment may be made through this website or at the door with cash. \nTo purchase a seat\, click here\nPlease review my studio rules.
URL:https://oldschoolclayandceramics.com/event/sunday-drop-in-make-a-leaf-bowl/
LOCATION:Old School Clay and Ceramics\, 145 Main St\, Groton\, Ma\, 01450
CATEGORIES:Workshop
ATTACH;FMTTYPE=image/jpeg:https://oldschoolclayandceramics.com/wp-content/uploads/2023/07/Leaf-Bowls.jpg
ORGANIZER;CN="Old School Clay and Ceramics":MAILTO:whistlewood1@gmail.com
END:VEVENT
BEGIN:VEVENT
DTSTART;TZID=America/New_York:20231029T140000
DTEND;TZID=America/New_York:20231029T160000
DTSTAMP:20260425T090145
CREATED:20231024T220930Z
LAST-MODIFIED:20231027T135116Z
UID:2898-1698588000-1698595200@oldschoolclayandceramics.com
SUMMARY:Diwali Luminaires - Sunday Drop In
DESCRIPTION:Using a prepared tube of clay\, you will be led through the steps to make a luminaire. The luminaire will be 6 – 8 inches tall\, choose either square or round\, a little more than 2 inches wide\, into which you will carve designs using an exacto knife. You can also add clay to further decorate the tube.. \nPictured are luminaires made by other artists typical of what you could make. Any age can be successful with project – depending on what they decide to make. \nSign up for the following week’s project\, and you can glaze your pot\, too\, or let one of our staff glaze the pot for you. You can pick up your pot 3 weeks from when you make it. (You can also come back once your luminaire has been fired and glaze it for no additional cost.) \nThis is the project for Sunday 10/29. The drop in workshop is offered from 2 – 4 pm.  It will probably take you about half an hour to make the luminaire. You can come any time between those hours – just plan on half an hour to make the project. \nA different project will be offered every weekend. Projects for the fall include\, pine tree luminaires\, and pine tree stands\, and a plate for santa. Once glazed and fired the pots will be dishwasher safe\, microwaveable and oven proof. For more information about future projects. \nPayment may be made through this website or at the door with cash. \nPlease review my studio rules.
URL:https://oldschoolclayandceramics.com/event/diwali-luminaires-sunday-drop-in/
LOCATION:Old School Clay and Ceramics\, 145 Main St\, Groton\, Ma\, 01450
CATEGORIES:Workshop
ATTACH;FMTTYPE=image/jpeg:https://oldschoolclayandceramics.com/wp-content/uploads/2023/10/luminaires.jpg
ORGANIZER;CN="Old School Clay and Ceramics":MAILTO:whistlewood1@gmail.com
END:VEVENT
END:VCALENDAR