BEGIN:VCALENDAR
VERSION:2.0
PRODID:-//Old School Clay and Ceramics - ECPv6.15.20//NONSGML v1.0//EN
CALSCALE:GREGORIAN
METHOD:PUBLISH
X-ORIGINAL-URL:https://oldschoolclayandceramics.com
X-WR-CALDESC:Events for Old School Clay and Ceramics
REFRESH-INTERVAL;VALUE=DURATION:PT1H
X-Robots-Tag:noindex
X-PUBLISHED-TTL:PT1H
BEGIN:VTIMEZONE
TZID:America/New_York
BEGIN:DAYLIGHT
TZOFFSETFROM:-0500
TZOFFSETTO:-0400
TZNAME:EDT
DTSTART:20220313T070000
END:DAYLIGHT
BEGIN:STANDARD
TZOFFSETFROM:-0400
TZOFFSETTO:-0500
TZNAME:EST
DTSTART:20221106T060000
END:STANDARD
BEGIN:DAYLIGHT
TZOFFSETFROM:-0500
TZOFFSETTO:-0400
TZNAME:EDT
DTSTART:20230312T070000
END:DAYLIGHT
BEGIN:STANDARD
TZOFFSETFROM:-0400
TZOFFSETTO:-0500
TZNAME:EST
DTSTART:20231105T060000
END:STANDARD
BEGIN:DAYLIGHT
TZOFFSETFROM:-0500
TZOFFSETTO:-0400
TZNAME:EDT
DTSTART:20240310T070000
END:DAYLIGHT
BEGIN:STANDARD
TZOFFSETFROM:-0400
TZOFFSETTO:-0500
TZNAME:EST
DTSTART:20241103T060000
END:STANDARD
END:VTIMEZONE
BEGIN:VTIMEZONE
TZID:America/Halifax
BEGIN:DAYLIGHT
TZOFFSETFROM:-0400
TZOFFSETTO:-0300
TZNAME:ADT
DTSTART:20220313T060000
END:DAYLIGHT
BEGIN:STANDARD
TZOFFSETFROM:-0300
TZOFFSETTO:-0400
TZNAME:AST
DTSTART:20221106T050000
END:STANDARD
BEGIN:DAYLIGHT
TZOFFSETFROM:-0400
TZOFFSETTO:-0300
TZNAME:ADT
DTSTART:20230312T060000
END:DAYLIGHT
BEGIN:STANDARD
TZOFFSETFROM:-0300
TZOFFSETTO:-0400
TZNAME:AST
DTSTART:20231105T050000
END:STANDARD
BEGIN:DAYLIGHT
TZOFFSETFROM:-0400
TZOFFSETTO:-0300
TZNAME:ADT
DTSTART:20240310T060000
END:DAYLIGHT
BEGIN:STANDARD
TZOFFSETFROM:-0300
TZOFFSETTO:-0400
TZNAME:AST
DTSTART:20241103T050000
END:STANDARD
END:VTIMEZONE
BEGIN:VEVENT
DTSTART;TZID=America/New_York:20230201T133000
DTEND;TZID=America/New_York:20230201T160000
DTSTAMP:20260425T201311
CREATED:20230130T180132Z
LAST-MODIFIED:20230130T180158Z
UID:2042-1675258200-1675267200@oldschoolclayandceramics.com
SUMMARY:Open Studio - Feb 1
DESCRIPTION:Feeling creative!? Join us Wednesday Afternoons from 1:30 – 4 pm to make your own creations. I will be available to provide technical assistance for you to achieve your clay ideas. Pretty much no limit on what you can make. I plan to offer this option for open studio through most of the winter\, that is\, through January – February.  \nThis will be a test run for the month of February\, where 8 pounds of clay and materials are  included in the price.  If you make something at home\, or take something home to work on\, you will be charged an additional fee for glazes and/or  firing.  If you have never done an open studio before\, it is good to come to the workshop with the intention of making 3 things (3 plates\, mugs\, bowls…) You may not make all 3\, but you will get a good start on them. I will help you with technical advice for construction of your design.  If you plan to work on the wheel\, you need to plan on at least 2 more open studios\, one more to trim your pots\, and a final one to glaze.  \nPrerequisite: 2 previous classes or workshops with me\, or a completed 4 week or more class. Limit of 4 people per class.  \nThis workshop is best for students who can work independently\, and are comfortable with the rules of the studio. \nTo reserve your seat\, click here\n \n 
URL:https://oldschoolclayandceramics.com/event/open-studio-feb-1/
LOCATION:Old School Clay and Ceramics\, 145 Main St\, Groton\, Ma\, 01450
CATEGORIES:Workshop
ATTACH;FMTTYPE=image/jpeg:https://oldschoolclayandceramics.com/wp-content/uploads/2021/04/cropped-old-school-logo-scaled-1.jpg
ORGANIZER;CN="Old School Clay and Ceramics":MAILTO:whistlewood1@gmail.com
END:VEVENT
BEGIN:VEVENT
DTSTART;TZID=America/New_York:20230212T163000
DTEND;TZID=America/New_York:20230212T190000
DTSTAMP:20260425T201311
CREATED:20230130T175823Z
LAST-MODIFIED:20230130T175823Z
UID:2039-1676219400-1676228400@oldschoolclayandceramics.com
SUMMARY:Open Studio - Feb 12
DESCRIPTION:Feeling creative!? Join us Sunday Afternoons from 4:30 – 7 pm to make your own creations. I will be available to provide technical assistance for you to achieve your clay ideas. Pretty much no limit on what you can make. I plan to offer this option for open studio through most of the winter\, that is\, through January – February.  \nThis will be a test run for the month of February\, where 8 pounds of clay and materials are  included in the price.  If you make something at home\, or take something home to work on\, you will be charged an additional fee for glazes and/or  firing.  If you have never done an open studio before\, it is good to come to the workshop with the intention of making 3 things (3 plates\, mugs\, bowls…) You may not make all 3\, but you will get a good start on them. I will help you with technical advice for construction of your design.  If you plan to work on the wheel\, you need to plan on at least 2 more open studios\, one more to trim your pots\, and a final one to glaze.  \nPrerequisite: 2 previous classes or workshops with me\, or a completed 4 week or more class. Limit of 4 people per class.  \nThis workshop is best for students who can work independently\, and are comfortable with the rules of the studio. \nClick here to reserve your seat
URL:https://oldschoolclayandceramics.com/event/open-studio-feb-12/
LOCATION:Old School Clay and Ceramics\, 145 Main St\, Groton\, Ma\, 01450
CATEGORIES:Workshop
ATTACH;FMTTYPE=image/jpeg:https://oldschoolclayandceramics.com/wp-content/uploads/2021/04/cropped-old-school-logo-scaled-1.jpg
ORGANIZER;CN="Old School Clay and Ceramics":MAILTO:whistlewood1@gmail.com
END:VEVENT
BEGIN:VEVENT
DTSTART;TZID=America/Halifax:20230215T180000
DTEND;TZID=America/Halifax:20230215T200000
DTSTAMP:20260425T201311
CREATED:20221127T000329Z
LAST-MODIFIED:20221127T000329Z
UID:1866-1676484000-1676491200@oldschoolclayandceramics.com
SUMMARY:Make a Tray - February
DESCRIPTION:Beautiful and functional…what could be better? Using a mold and a slab of clay\, you will make a tray that reflects your own creativity. This is a two day event. The first day we will make the tray\, and decorate with stamps to provide texture\, or you can use one of the many rolling pins I have with beautiful unique textures. You can add handles…or not. The second day\, the following week\, you will glaze your tray. The first day will likely take the full two hours as contemplating the many ways to decorate takes time. The second week\, when you will glaze your tray\, will take around an hour. The tray is dishwasher safe\, microwavable\, and ovenproof\, if protected from thermal shock. The tray is about 12 x 8 by about 1 inch deep. \nThe class will take place Wednesday February 15 and 22  pm\, from 6 to 8 pm. The class will be limited to 8 people. \nThe finished tray will make a great charcuterie board – how fun that you can say to your guests that not only did you make the great display of food – but you also made the tray! \n\n\n\n	\n		\n			\n			\n		\n\n		\n		\n			\n			\n		\n\n		\n		\n			\n			\n		\n\n		\n		\n			\n			\n		\n\n		\n		\n			\n			\n		\n\n		\n		\n			\n			\n		\n\n		\n		\n			\n			\n		\n\n		\n		\n			\n			\n		\n\n		\n		\n			\n			\n		\n\n		\n		\n			\n			\n		\n\n		\n		\n			\n			\n		\n\n		\n\n\n\nPlease review my studio rules before committing to this class. 
URL:https://oldschoolclayandceramics.com/event/make-a-tray-february/
LOCATION:Old School Clay and Ceramics\, 145 Main St\, Groton\, Ma\, 01450
CATEGORIES:Workshop
ATTACH;FMTTYPE=image/jpeg:https://oldschoolclayandceramics.com/wp-content/uploads/2021/10/tray.jpg
ORGANIZER;CN="Old School Clay and Ceramics":MAILTO:whistlewood1@gmail.com
END:VEVENT
BEGIN:VEVENT
DTSTART;TZID=America/New_York:20230216T160000
DTEND;TZID=America/New_York:20230216T180000
DTSTAMP:20260425T201311
CREATED:20230128T161934Z
LAST-MODIFIED:20230130T180839Z
UID:2019-1676563200-1676570400@oldschoolclayandceramics.com
SUMMARY:Make a Planter
DESCRIPTION:Do you have a plant that you love and want to create a planter that will show off just how unique or pretty it is? \nJoin us Thursday afternoons in February for this beginner class to make a planter.  The planter with feature a textured outside and attached saucer for drainage. You can add holes to make it a hanging planter\, or just leave it to sit beautifully on your table or windowsill. The planter will be a maximum of 7 inches tall by 5 inches wide – you can make it smaller\, if needed. We’ll use different items to add texture to the outside for visual interest – or you can leave it plain and just let the glaze\, whatever colors you choose\,  do its magic. The planter will be made using slabs of clay and molds\, but finished on the wheel.  The class will be limited to 6 students and will involve sharing of the wheels. \nThe class will meet two days. The first day we will make the planter. You will then come back the following week to glaze the planter. The days will be Feb 16 and 23 from 4 to 6 pm. The first class will likely take the full 2 hours\, the second class will probably be just one hour. \nYour planter will be ready for pick up within 3 weeks following the last class.   \nTo reserve your seat\, click here\nPLease familiarize yourself with my rules of the studio before committing to this class. 
URL:https://oldschoolclayandceramics.com/event/make-a-planter/
LOCATION:Old School Clay and Ceramics\, 145 Main St\, Groton\, Ma\, 01450
CATEGORIES:Workshop
ATTACH;FMTTYPE=image/jpeg:https://oldschoolclayandceramics.com/wp-content/uploads/2023/01/PXL_20230128_154551355-scaled.jpg
ORGANIZER;CN="Old School Clay and Ceramics":MAILTO:whistlewood1@gmail.com
END:VEVENT
BEGIN:VEVENT
DTSTART;TZID=America/New_York:20230216T183000
DTEND;TZID=America/New_York:20230216T210000
DTSTAMP:20260425T201311
CREATED:20230131T225753Z
LAST-MODIFIED:20230131T225912Z
UID:2050-1676572200-1676581200@oldschoolclayandceramics.com
SUMMARY:Open Studio - Feb 16
DESCRIPTION:I have had a cancellation for my Thursday night open studio so there is an extra seat. It meets from 6:30 – 9.  \nFeeling creative!? Join us Thursday Evening from 6:30 – 9 pm to make your own creations. I will be available to provide technical assistance for you to achieve your clay ideas. Pretty much no limit on what you can make.  \nThis will be a test run for the month of February\, where 8 pounds of clay and materials are  included in the price.  If you make something at home\, or take something home to work on\, you will be charged an additional fee for glazes and/or  firing.  If you have never done an open studio before\, it is good to come to the workshop with the intention of making 3 things (3 plates\, mugs\, bowls…) You may not make all 3\, but you will get a good start on them. I will help you with technical advice for construction of your design.  If you plan to work on the wheel\, you need to plan on at least 2 more open studios\, one more to trim your pots\, and a final one to glaze.  \nPrerequisite: 2 previous classes or workshops with me\, or a completed 4 week or more class. Limit of 4 people per class.  \nTo reserve your seat click here.\nThis workshop is best for students who can work independently\, and are comfortable with the rules of the studio. \n \n 
URL:https://oldschoolclayandceramics.com/event/open-studio-feb-16/
LOCATION:Old School Clay and Ceramics\, 145 Main St\, Groton\, Ma\, 01450
CATEGORIES:Workshop
ATTACH;FMTTYPE=image/jpeg:https://oldschoolclayandceramics.com/wp-content/uploads/2021/04/cropped-old-school-logo-scaled-1.jpg
ORGANIZER;CN="Old School Clay and Ceramics":MAILTO:whistlewood1@gmail.com
END:VEVENT
END:VCALENDAR