BEGIN:VCALENDAR
VERSION:2.0
PRODID:-//Old School Clay and Ceramics - ECPv6.15.20//NONSGML v1.0//EN
CALSCALE:GREGORIAN
METHOD:PUBLISH
X-WR-CALNAME:Old School Clay and Ceramics
X-ORIGINAL-URL:https://oldschoolclayandceramics.com
X-WR-CALDESC:Events for Old School Clay and Ceramics
REFRESH-INTERVAL;VALUE=DURATION:PT1H
X-Robots-Tag:noindex
X-PUBLISHED-TTL:PT1H
BEGIN:VTIMEZONE
TZID:America/New_York
BEGIN:DAYLIGHT
TZOFFSETFROM:-0500
TZOFFSETTO:-0400
TZNAME:EDT
DTSTART:20250309T070000
END:DAYLIGHT
BEGIN:STANDARD
TZOFFSETFROM:-0400
TZOFFSETTO:-0500
TZNAME:EST
DTSTART:20251102T060000
END:STANDARD
BEGIN:DAYLIGHT
TZOFFSETFROM:-0500
TZOFFSETTO:-0400
TZNAME:EDT
DTSTART:20260308T070000
END:DAYLIGHT
BEGIN:STANDARD
TZOFFSETFROM:-0400
TZOFFSETTO:-0500
TZNAME:EST
DTSTART:20261101T060000
END:STANDARD
BEGIN:DAYLIGHT
TZOFFSETFROM:-0500
TZOFFSETTO:-0400
TZNAME:EDT
DTSTART:20270314T070000
END:DAYLIGHT
BEGIN:STANDARD
TZOFFSETFROM:-0400
TZOFFSETTO:-0500
TZNAME:EST
DTSTART:20271107T060000
END:STANDARD
END:VTIMEZONE
BEGIN:VEVENT
DTSTART;TZID=America/New_York:20260603T180000
DTEND;TZID=America/New_York:20260603T200000
DTSTAMP:20260423T195240
CREATED:20260423T181641Z
LAST-MODIFIED:20260423T181641Z
UID:8836-1780509600-1780516800@oldschoolclayandceramics.com
SUMMARY:Intro to Ceramics - June
DESCRIPTION:This is a 4 week class\, specifically for adults\,  in which you will be introduced to the basics of throwing (working on the wheel) and hand building. \nYou will be introduced to techniques to throw a pot on the wheel\, as well as hand building with slabs. This is a great class to build a strong foundation in pottery giving you skills in hand building and pottery and how to combine the two skills for success – even at a beginner’s level!  The class will meet Wednesday evenings in June from 6 -8  pm. The days will be June 3\, 10\, 17\, and 24. The class is limited to 4 adult people – meaning you will get good one on one instruction. If weather makes travel dangerous\, the class will be rescheduled. The outline of the class is as follows: \nWeek 1:\n\n\n\n\n\nYou will throw 5 balls of clay (time permitting)\, of which you will keep 3 that you like. Focus is on centering\nWe will make a slab plate and use sgraffito to decorate\nReview of different ways to finish or decorate your pots.\n\n\n\n\n\nWeek 2: \n\n\n\n\n\n\n\n\n\n\n\n\n\n\n\n\n\nYou will trim the pots you made from the previous week. How to trim a pot\nYou will make 1 slab bowl and use texture to decorate\nYou will throw 4 balls of clay\, time permitting\, of which you can keep 2 of your finished pots. Focus is on shaping.\nReview pots that you have made. Discuss ways that they could be finished /decorated/glazed.\n\n\n\n\n\n\n\n\n\n\n\n\n\n\n\n\n\nWeek 3: \n\n\n\n\n\n\n\n\n\n\n\n\n\nYou will learn about different techniques to finish your pots. The plate you made in the previously will be finished with a  method called sgraffito.\nYou will trim your pots not trimmed\nYou can decorate any of your pots using whatever method you like -time permitting\n\n\n\n\n\n\n\n\n\n\n\n\n\n\n\n\n\n\n\n\n\nWeek 4: \n\n\n\n\n\n\n\nYou will glaze all your pots previously made.\n\n\n\n\n\n\n\n\n\n\n	\n		\n			\n			\n		\n\n		\n		\n			\n			\n		\n\n		\n		\n			\n			\n		\n\n		\n		\n			\n			\n		\n\n		\n		\n			\n			\n		\n\n		\n		\n			\n			\n		\n\n		\n		\n			\n			\n		\n\n		\n		\n			\n			\n		\n\n		\n		\n			\n			\n		\n\n		\n		\n			\n			\n		\n\n		\n		\n			\n			\n		\n\n		\n\n\n\n\n\n\nYour pots will be available for pick up within 3 weeks of your last class. If you know you are going to miss a class\, you might consider taking this  class another month.  \nPlease review my studio rules prior to signing up for a class or workshop\n\n\n\n\nTo sign up for this class\, click here\n\n\n  \n\n\n\n\n\n\n\n\n\n\n\n\n\n \n\n\n\n\n\n\n\n\n\n\n\n\n\n 
URL:https://oldschoolclayandceramics.com/event/intro-to-ceramics-june/
LOCATION:Old School Clay and Ceramics\, 145 Main St\, Groton\, Ma\, 01450
CATEGORIES:Class
ATTACH;FMTTYPE=image/jpeg:https://oldschoolclayandceramics.com/wp-content/uploads/2021/03/00100lrPORTRAIT_00100_BURST20201210105613919_COVER.jpg
ORGANIZER;CN="Old School Clay and Ceramics":MAILTO:whistlewood1@gmail.com
END:VEVENT
BEGIN:VEVENT
DTSTART;TZID=America/New_York:20260605T180000
DTEND;TZID=America/New_York:20260605T200000
DTSTAMP:20260423T195240
CREATED:20260423T184344Z
LAST-MODIFIED:20260423T190052Z
UID:8845-1780682400-1780689600@oldschoolclayandceramics.com
SUMMARY:Intro to Ceramics  - Also June
DESCRIPTION:This is a 4 week class\, specifically for adults\,  in which you will be introduced to the basics of throwing (working on the wheel) and hand building. \nYou will be introduced to techniques to throw a pot on the wheel\, as well as hand building with slabs. This is a great class to build a strong foundation in pottery giving you skills in hand building and pottery and how to combine the two skills for success – even at a beginner’s level!  The class will meet Friday evenings in June (and July)  from 6 -8  pm. The days will be June 5\, 12\, 19\, and July 10. Please note that the last class will be  July 10. The class is limited to 4 adult people – meaning you will get good one on one instruction. If weather makes travel dangerous\, the class will be rescheduled. The outline of the class is as follows: \nWeek 1:\n\n\n\n\n\nYou will throw 5 balls of clay (time permitting)\, of which you will keep 3 that you like. Focus is on centering\nWe will make a slab plate and use sgraffito to decorate\nReview of different ways to finish or decorate your pots.\n\n\n\n\n\nWeek 2: \n\n\n\n\n\n\n\n\n\n\n\n\n\n\n\n\n\nYou will trim the pots you made from the previous week. How to trim a pot\nYou will make 1 slab bowl and use texture to decorate\nYou will throw 4 balls of clay\, time permitting\, of which you can keep 2 of your finished pots. Focus is on shaping.\nReview pots that you have made. Discuss ways that they could be finished /decorated/glazed.\n\n\n\n\n\n\n\n\n\n\n\n\n\n\n\n\n\nWeek 3: \n\n\n\n\n\n\n\n\n\n\n\n\n\nYou will learn about different techniques to finish your pots. The plate you made in the previously will be finished with a  method called sgraffito.\nYou will trim your pots not trimmed\nYou can decorate any of your pots using whatever method you like -time permitting\n\n\n\n\n\n\n\n\n\n\n\n\n\n\n\n\n\n\n\n\n\nWeek 4: \n\n\n\n\n\n\n\nYou will glaze all your pots previously made.\n\n\n\n\n\n\n\n\n\n\n	\n		\n			\n			\n		\n\n		\n		\n			\n			\n		\n\n		\n		\n			\n			\n		\n\n		\n		\n			\n			\n		\n\n		\n		\n			\n			\n		\n\n		\n		\n			\n			\n		\n\n		\n		\n			\n			\n		\n\n		\n		\n			\n			\n		\n\n		\n		\n			\n			\n		\n\n		\n		\n			\n			\n		\n\n		\n		\n			\n			\n		\n\n		\n\n\n\n\n\n\nYour pots will be available for pick up within 3 weeks of your last class. If you know you are going to miss a class\, you might consider taking this  class another month.  \nPlease review my studio rules prior to signing up for a class or workshop\n\n\nTo sign up for this class\, click here\n\n\n\n\n  \n\n\n\n\n\n\n\n\n\n\n\n\n\n \n\n\n\n\n\n\n\n\n\n\n\n\n\n 
URL:https://oldschoolclayandceramics.com/event/intro-to-ceramics-also-june/
LOCATION:Old School Clay and Ceramics\, 145 Main St\, Groton\, Ma\, 01450
CATEGORIES:Class
ATTACH;FMTTYPE=image/jpeg:https://oldschoolclayandceramics.com/wp-content/uploads/2021/04/00100lrPORTRAIT_00100_BURST20201210105613919_COVER.jpg
ORGANIZER;CN="Old School Clay and Ceramics":MAILTO:whistlewood1@gmail.com
END:VEVENT
END:VCALENDAR