BEGIN:VCALENDAR
VERSION:2.0
PRODID:-//Old School Clay and Ceramics - ECPv6.15.20//NONSGML v1.0//EN
CALSCALE:GREGORIAN
METHOD:PUBLISH
X-ORIGINAL-URL:https://oldschoolclayandceramics.com
X-WR-CALDESC:Events for Old School Clay and Ceramics
REFRESH-INTERVAL;VALUE=DURATION:PT1H
X-Robots-Tag:noindex
X-PUBLISHED-TTL:PT1H
BEGIN:VTIMEZONE
TZID:America/New_York
BEGIN:DAYLIGHT
TZOFFSETFROM:-0500
TZOFFSETTO:-0400
TZNAME:EDT
DTSTART:20250309T070000
END:DAYLIGHT
BEGIN:STANDARD
TZOFFSETFROM:-0400
TZOFFSETTO:-0500
TZNAME:EST
DTSTART:20251102T060000
END:STANDARD
BEGIN:DAYLIGHT
TZOFFSETFROM:-0500
TZOFFSETTO:-0400
TZNAME:EDT
DTSTART:20260308T070000
END:DAYLIGHT
BEGIN:STANDARD
TZOFFSETFROM:-0400
TZOFFSETTO:-0500
TZNAME:EST
DTSTART:20261101T060000
END:STANDARD
BEGIN:DAYLIGHT
TZOFFSETFROM:-0500
TZOFFSETTO:-0400
TZNAME:EDT
DTSTART:20270314T070000
END:DAYLIGHT
BEGIN:STANDARD
TZOFFSETFROM:-0400
TZOFFSETTO:-0500
TZNAME:EST
DTSTART:20271107T060000
END:STANDARD
END:VTIMEZONE
BEGIN:VEVENT
DTSTART;TZID=America/New_York:20260102T180000
DTEND;TZID=America/New_York:20260102T200000
DTSTAMP:20260423T182530
CREATED:20251103T153137Z
LAST-MODIFIED:20251103T153137Z
UID:7734-1767376800-1767384000@oldschoolclayandceramics.com
SUMMARY:Learn to Throw - Jan/Feb
DESCRIPTION:Learn to throw on a potter’s wheel. Group lessons limited to 4 students. This class is specifically for adults.  Price is for 8 two hour classes and includes materials. The class will cover centering\, throwing techniques\, trimming and glazing . Techniques to decorate a pot\, including adding clay\, carving\, sgraffito\, and use of underglazes and washes will be covered. \nThis is primarily focusing on beginner techniques. Click here for a course outline   8 week class outline.   If you have never worked with clay before\, I would highly suggest  taking the 4 week Intro to Ceramics class\, first – or even the “One Day Intro to Throwing Class.“  If you have taken this class before\, I have suggested a modified version of this class for you. Sign up for this class\, and we can work on the projects detailed in this post. This Adult class will take place Friday evenings starting January 2\, 9\, 16\, 23\, and 30\, and February 6\, 13\, and 20  from 6 – 8 pm. In the event of a snow day\, we will go until February 27. Multiple snowdays may mean class will take place on a Saturday. \nNo refunds allowed\, unless I am able to fill your seat prior to class starting. Throwing on the wheel requires a certain amount of strength\, it also requires that your hands will get dirty. You will also need to cut your nails short. If you are not sure you have the strength to do it\, or will appreciate the wonderful tactile nature of the art\, I would suggest an intro to throwing class first.  \n  It will run 8 weeks. If you miss a class\, you can sign up for an open studio\, at your cost.  \nThis is a good class for folks who have taken an Intro to Ceramics and are looking for a more structured class setting to improve throwing skills.  \nPlease be sure to familiarize yourself with the studio rules prior to signing up. 
URL:https://oldschoolclayandceramics.com/event/learn-to-throw-jan-feb/
LOCATION:Old School Clay and Ceramics\, 145 Main St\, Groton\, Ma\, 01450
CATEGORIES:Class
ATTACH;FMTTYPE=image/jpeg:https://oldschoolclayandceramics.com/wp-content/uploads/2021/03/throwing-pic-e1619447045869.jpg
ORGANIZER;CN="Old School Clay and Ceramics":MAILTO:whistlewood1@gmail.com
END:VEVENT
BEGIN:VEVENT
DTSTART;TZID=America/New_York:20260107T180000
DTEND;TZID=America/New_York:20260107T200000
DTSTAMP:20260423T182530
CREATED:20251103T143639Z
LAST-MODIFIED:20251103T143639Z
UID:7730-1767808800-1767816000@oldschoolclayandceramics.com
SUMMARY:Intro to Ceramics - January
DESCRIPTION:This is a 4 week class\, specifically for adults\,  in which you will be introduced to the basics of throwing (working on the wheel) and hand building. \nYou will be introduced to techniques to throw a pot on the wheel\, as well as hand building with slabs. This is a great class to build a strong foundation in pottery giving you skills in hand building and pottery and how to combine the two skills for success – even at a beginner’s level!  The class will meet Wednesday Evenings in January from 6 – 8   pm.  The days will be January  7\, 14\, 21\, and 28.  The class is limited to 4 adult people – meaning you will get good one on one instruction. The outline of the class is as follows: \nWeek 1:\n\n\n\n\n\nYou will throw 5 balls of clay (time permitting)\, of which you will keep 3 that you like. Focus is on centering\nWe will make a slab plate and use sgraffito to decorate\nReview of different ways to finish or decorate your pots.\n\n\n\n\n\nWeek 2: \n\n\n\n\n\n\n\n\n\n\n\n\n\n\n\n\n\nYou will trim the pots you made from the previous week. How to trim a pot\nYou will make 1 slab bowl and use texture to decorate\nYou will throw 4 balls of clay\, time permitting\, of which you can keep 2 of your finished pots. Focus is on shaping.\nReview pots that you have made. Discuss ways that they could be finished /decorated/glazed.\n\n\n\n\n\n\n\n\n\n\n\n\n\n\n\n\n\nWeek 3: \n\n\n\n\n\n\n\n\n\n\n\n\n\nYou will learn about different techniques to finish your pots. The plate you made in the previously will be finished with a  method called sgraffito.\nYou will trim your pots not trimmed\nYou can decorate any of your pots using whatever method you like -time permitting\n\n\n\n\n\n\n\n\n\n\n\n\n\n\n\n\n\n\n\n\n\nWeek 4: \n\n\n\n\n\n\n\nYou will glaze all your pots previously made.\n\n\n\n\n\n\n\n\n\n\n	\n		\n			\n			\n		\n\n		\n		\n			\n			\n		\n\n		\n		\n			\n			\n		\n\n		\n		\n			\n			\n		\n\n		\n		\n			\n			\n		\n\n		\n		\n			\n			\n		\n\n		\n		\n			\n			\n		\n\n		\n		\n			\n			\n		\n\n		\n		\n			\n			\n		\n\n		\n		\n			\n			\n		\n\n		\n		\n			\n			\n		\n\n		\n\n\n\n\n\n\nYour pots will be available for pick up within 3 weeks of your last class. If you know you are going to miss a class\, you might consider taking this  class another month.  \nPlease review my studio rules prior to signing up for a class or workshop\n\n\n\n\n  \n\n\n\n\n\n\n\n\n\n\n\n\n\n \n\n\n\n\n\n\n\n\n\n\n\n\n\n 
URL:https://oldschoolclayandceramics.com/event/intro-to-ceramics-january/
LOCATION:Old School Clay and Ceramics\, 145 Main St\, Groton\, Ma\, 01450
CATEGORIES:Class
ATTACH;FMTTYPE=image/jpeg:https://oldschoolclayandceramics.com/wp-content/uploads/2021/03/throwing-pic-e1619447045869.jpg
ORGANIZER;CN="Old School Clay and Ceramics":MAILTO:whistlewood1@gmail.com
END:VEVENT
END:VCALENDAR