BEGIN:VCALENDAR
VERSION:2.0
PRODID:-//Old School Clay and Ceramics - ECPv6.15.20//NONSGML v1.0//EN
CALSCALE:GREGORIAN
METHOD:PUBLISH
X-ORIGINAL-URL:https://oldschoolclayandceramics.com
X-WR-CALDESC:Events for Old School Clay and Ceramics
REFRESH-INTERVAL;VALUE=DURATION:PT1H
X-Robots-Tag:noindex
X-PUBLISHED-TTL:PT1H
BEGIN:VTIMEZONE
TZID:America/New_York
BEGIN:DAYLIGHT
TZOFFSETFROM:-0500
TZOFFSETTO:-0400
TZNAME:EDT
DTSTART:20230312T070000
END:DAYLIGHT
BEGIN:STANDARD
TZOFFSETFROM:-0400
TZOFFSETTO:-0500
TZNAME:EST
DTSTART:20231105T060000
END:STANDARD
BEGIN:DAYLIGHT
TZOFFSETFROM:-0500
TZOFFSETTO:-0400
TZNAME:EDT
DTSTART:20240310T070000
END:DAYLIGHT
BEGIN:STANDARD
TZOFFSETFROM:-0400
TZOFFSETTO:-0500
TZNAME:EST
DTSTART:20241103T060000
END:STANDARD
BEGIN:DAYLIGHT
TZOFFSETFROM:-0500
TZOFFSETTO:-0400
TZNAME:EDT
DTSTART:20250309T070000
END:DAYLIGHT
BEGIN:STANDARD
TZOFFSETFROM:-0400
TZOFFSETTO:-0500
TZNAME:EST
DTSTART:20251102T060000
END:STANDARD
END:VTIMEZONE
BEGIN:VEVENT
DTSTART;TZID=America/New_York:20241108T180000
DTEND;TZID=America/New_York:20241108T200000
DTSTAMP:20260424T143736
CREATED:20240924T132743Z
LAST-MODIFIED:20241101T122901Z
UID:4741-1731088800-1731096000@oldschoolclayandceramics.com
SUMMARY:Learn to Throw - Nov/Dec
DESCRIPTION:Learn to throw on a potter’s wheel. Group lessons limited to 4 students. This class is specifically for adults.  Price is for 8 two hour classes and includes materials. The class will cover centering\, throwing techniques\, trimming and glazing . Techniques to decorate a pot\, including adding clay\, carving\, sgraffito\, and use of underglazes and washes will be covered. \nThis is primarily focusing on beginner techniques. Click here for a course outline .     8 week class outline.   If you have never worked with clay before\, I would highly suggest  taking the 4 week Intro to Ceramics class\, first – or even the “One Day Intro to Throwing Class.”  If you have taken this class before\, I have suggested a modified version of this class for you. Sign up for this class\, and we can work on the projects detailed in this post. This Adult class will take place Friday evenings starting November 8\, 15\, 22\, 29\, December 6\, 13\, 20 and 27\, from 6 – 8 pm.  \nNo refunds allowed\, unless I am able to fill your seat prior to class starting. Throwing on the wheel requires a certain amount of strength\, it also requires that your hands will get dirty. If you are not sure you have the strength to do it\, or will appreciate the wonderful tactile nature of the art\, I would suggest an intro to throwing class first.  \n  It will run 8 weeks. If you miss a class\, you can sign up for an open studio\, at your cost.  \nThis is a good class for folks who have taken an Intro to Ceramics and are looking for a more structured class setting to improve throwing skills.  \nPlease be sure to familiarize yourself with the studio rules prior to signing up. 
URL:https://oldschoolclayandceramics.com/event/learn-to-throw-nov-dec/
LOCATION:Old School Clay and Ceramics\, 145 Main St\, Groton\, Ma\, 01450
CATEGORIES:Class
ATTACH;FMTTYPE=image/jpeg:https://oldschoolclayandceramics.com/wp-content/uploads/2021/03/throwing-pic-e1619447045869.jpg
ORGANIZER;CN="Old School Clay and Ceramics":MAILTO:whistlewood1@gmail.com
END:VEVENT
END:VCALENDAR