BEGIN:VCALENDAR
VERSION:2.0
PRODID:-//Old School Clay and Ceramics - ECPv6.15.20//NONSGML v1.0//EN
CALSCALE:GREGORIAN
METHOD:PUBLISH
X-ORIGINAL-URL:https://oldschoolclayandceramics.com
X-WR-CALDESC:Events for Old School Clay and Ceramics
REFRESH-INTERVAL;VALUE=DURATION:PT1H
X-Robots-Tag:noindex
X-PUBLISHED-TTL:PT1H
BEGIN:VTIMEZONE
TZID:America/New_York
BEGIN:DAYLIGHT
TZOFFSETFROM:-0500
TZOFFSETTO:-0400
TZNAME:EDT
DTSTART:20220313T070000
END:DAYLIGHT
BEGIN:STANDARD
TZOFFSETFROM:-0400
TZOFFSETTO:-0500
TZNAME:EST
DTSTART:20221106T060000
END:STANDARD
BEGIN:DAYLIGHT
TZOFFSETFROM:-0500
TZOFFSETTO:-0400
TZNAME:EDT
DTSTART:20230312T070000
END:DAYLIGHT
BEGIN:STANDARD
TZOFFSETFROM:-0400
TZOFFSETTO:-0500
TZNAME:EST
DTSTART:20231105T060000
END:STANDARD
BEGIN:DAYLIGHT
TZOFFSETFROM:-0500
TZOFFSETTO:-0400
TZNAME:EDT
DTSTART:20240310T070000
END:DAYLIGHT
BEGIN:STANDARD
TZOFFSETFROM:-0400
TZOFFSETTO:-0500
TZNAME:EST
DTSTART:20241103T060000
END:STANDARD
END:VTIMEZONE
BEGIN:VEVENT
DTSTART;TZID=America/New_York:20231106T180000
DTEND;TZID=America/New_York:20231106T200000
DTSTAMP:20260425T093049
CREATED:20231005T205414Z
LAST-MODIFIED:20231005T205414Z
UID:2861-1699293600-1699300800@oldschoolclayandceramics.com
SUMMARY:Intro to Ceramics - November
DESCRIPTION:This is a 4 week class\, specifically for adults\,  in which you will be introduced to the basics of throwing and ceramics. You will be introduced to techniques to throw a pot on the wheel\, as well as hand building with slabs. This is a great class to build a strong foundation in pottery giving you skills in hand building and pottery and how to combine the two skills for success – even at a beginner’s level!  The class will meet Monday evenings in November\,  6 – 8  pm\, November 6\, 13\, 20\, and 27. The class is limited to 4 adult people.  The outline of the class is as follows: \n\n\nWeek 1:\n\n\n\nYou will throw 5 balls of clay\, of which you will keep 3 that you like. Focus is on centering\nWe will make a slab plate and use sgraffito to decorate\nReview of different ways to finish or decorate your pots.\n \n\n\n\nWeek 2:\n\n\n\n\n\n\n\n\n\n\n\nYou will trim the pots you made from the previous week. How to trim a pot\nYou will make 1 slab bowl and use texture to decorate\nYou will throw 4 balls of clay\, time permitting\, of which you can keep 2 of your finished pots. Focus is on shaping.\nReview pots that you have made. Discuss ways that they could be finished /decorated/glazed. \n\n\n\nWeek 3: \n\n\n\n\n\n\n\n\n\n\n\nYou will learn about different techniques to finish your pots. The plate you made in the previously will be finished with a  method called sgraffito.\nYou will trim your pots not trimmed\nYou can decorate any of your pots using whatever method you like\n\n\n\nWeek 4: \n\n\n\nYou will glaze all your pots previously made.\n\n\n\n\n\n\n\n\n\n\n	\n		\n			\n			\n		\n\n		\n		\n			\n			\n		\n\n		\n		\n			\n			\n		\n\n		\n		\n			\n			\n		\n\n		\n		\n			\n			\n		\n\n		\n		\n			\n			\n		\n\n		\n		\n			\n			\n		\n\n		\n		\n			\n			\n		\n\n		\n		\n			\n			\n		\n\n		\n		\n			\n			\n		\n\n		\n		\n			\n			\n		\n\n		\n\n\n\n\n\n\nYour pots will be available for pick up within 3 weeks of your last class. \nPlease review my studio rules prior to signing up for a class or workshop.\n\n\nto reserve your seat\, click here.
URL:https://oldschoolclayandceramics.com/event/intro-to-ceramics-november/
LOCATION:Old School Clay and Ceramics\, 145 Main St\, Groton\, Ma\, 01450
CATEGORIES:Class
ATTACH;FMTTYPE=image/jpeg:https://oldschoolclayandceramics.com/wp-content/uploads/2021/03/throwing-pic-e1619447045869.jpg
ORGANIZER;CN="Old School Clay and Ceramics":MAILTO:whistlewood1@gmail.com
END:VEVENT
END:VCALENDAR