BEGIN:VCALENDAR
VERSION:2.0
PRODID:-//Old School Clay and Ceramics - ECPv6.15.20//NONSGML v1.0//EN
CALSCALE:GREGORIAN
METHOD:PUBLISH
X-WR-CALNAME:Old School Clay and Ceramics
X-ORIGINAL-URL:https://oldschoolclayandceramics.com
X-WR-CALDESC:Events for Old School Clay and Ceramics
REFRESH-INTERVAL;VALUE=DURATION:PT1H
X-Robots-Tag:noindex
X-PUBLISHED-TTL:PT1H
BEGIN:VTIMEZONE
TZID:America/New_York
BEGIN:DAYLIGHT
TZOFFSETFROM:-0500
TZOFFSETTO:-0400
TZNAME:EDT
DTSTART:20220313T070000
END:DAYLIGHT
BEGIN:STANDARD
TZOFFSETFROM:-0400
TZOFFSETTO:-0500
TZNAME:EST
DTSTART:20221106T060000
END:STANDARD
BEGIN:DAYLIGHT
TZOFFSETFROM:-0500
TZOFFSETTO:-0400
TZNAME:EDT
DTSTART:20230312T070000
END:DAYLIGHT
BEGIN:STANDARD
TZOFFSETFROM:-0400
TZOFFSETTO:-0500
TZNAME:EST
DTSTART:20231105T060000
END:STANDARD
BEGIN:DAYLIGHT
TZOFFSETFROM:-0500
TZOFFSETTO:-0400
TZNAME:EDT
DTSTART:20240310T070000
END:DAYLIGHT
BEGIN:STANDARD
TZOFFSETFROM:-0400
TZOFFSETTO:-0500
TZNAME:EST
DTSTART:20241103T060000
END:STANDARD
END:VTIMEZONE
BEGIN:VEVENT
DTSTART;TZID=America/New_York:20230419T180000
DTEND;TZID=America/New_York:20230419T200000
DTSTAMP:20260425T192603
CREATED:20230218T161649Z
LAST-MODIFIED:20230218T161649Z
UID:2114-1681927200-1681934400@oldschoolclayandceramics.com
SUMMARY:One Day Intro to Throwing - Mid April
DESCRIPTION:Have you wanted to learn to throw on the potter’s wheel\, but you are not sure you want to commit to a longer class? This is for you! This is a two day workshop\, one day you will play on the wheel\, and the next class\, a week later\, you will come back and glaze your pot.  \nIn this workshop\, you will have unlimited amount of clay to try your hand on the wheel. From all the pots you make in this 2 hour class\, you can choose one to keep\, that you will glaze the following week. If you want to keep all the pots you make\, or some of them\, I charge an additional $4 per pot which covers the cost of my trimming your bowls\, glaze\, electricity\, and overhead… The first class will take 2 hours\, the second class will take about an hour (depending on how many pots you keep).  \nGrab your family or friends\, and make an afternoon of it! The class is limited to just 4 students. \nPots made in previous “One Day Intro to Throwing” classes: \n\n\n\n	\n		\n			\n			\n		\n\n		\n		\n			\n			\n		\n\n		\n		\n			\n			\n		\n\n		\n		\n			\n			\n		\n\n		\n		\n			\n			\n		\n\n		\n		\n			\n			\n		\n\n		\n		\n			\n			\n		\n\n		\n		\n			\n			\n		\n\n		\n		\n			\n			\n		\n\n		\n		\n			\n			\n		\n\n		\n		\n			\n			\n		\n\n		\n		\n			\n			\n		\n\n		\n		\n			\n			\n		\n\n		\n		\n			\n			\n		\n\n		\n		\n			\n			\n		\n\n		\n		\n			\n			\n		\n\n		\n		\n			\n			\n		\n\n		\n		\n			\n			\n		\n\n		\n		\n			\n			\n		\n\n		\n\n\nThis workshop will take place on Wednesday evenings\,  April 19 and 26\,  from 6-8 pm.  \nTo reserve your seat\, click here\nPlease see my mask and studio rules.
URL:https://oldschoolclayandceramics.com/event/one-day-intro-to-throwing-mid-april/
LOCATION:Old School Clay and Ceramics\, 145 Main St\, Groton\, Ma\, 01450
CATEGORIES:Class
ATTACH;FMTTYPE=image/jpeg:https://oldschoolclayandceramics.com/wp-content/uploads/2021/03/throwing-pic-e1619447045869.jpg
ORGANIZER;CN="Old School Clay and Ceramics":MAILTO:whistlewood1@gmail.com
END:VEVENT
END:VCALENDAR