BEGIN:VCALENDAR
VERSION:2.0
PRODID:-//Old School Clay and Ceramics - ECPv6.15.20//NONSGML v1.0//EN
CALSCALE:GREGORIAN
METHOD:PUBLISH
X-ORIGINAL-URL:https://oldschoolclayandceramics.com
X-WR-CALDESC:Events for Old School Clay and Ceramics
REFRESH-INTERVAL;VALUE=DURATION:PT1H
X-Robots-Tag:noindex
X-PUBLISHED-TTL:PT1H
BEGIN:VTIMEZONE
TZID:America/Halifax
BEGIN:DAYLIGHT
TZOFFSETFROM:-0400
TZOFFSETTO:-0300
TZNAME:ADT
DTSTART:20220313T060000
END:DAYLIGHT
BEGIN:STANDARD
TZOFFSETFROM:-0300
TZOFFSETTO:-0400
TZNAME:AST
DTSTART:20221106T050000
END:STANDARD
BEGIN:DAYLIGHT
TZOFFSETFROM:-0400
TZOFFSETTO:-0300
TZNAME:ADT
DTSTART:20230312T060000
END:DAYLIGHT
BEGIN:STANDARD
TZOFFSETFROM:-0300
TZOFFSETTO:-0400
TZNAME:AST
DTSTART:20231105T050000
END:STANDARD
BEGIN:DAYLIGHT
TZOFFSETFROM:-0400
TZOFFSETTO:-0300
TZNAME:ADT
DTSTART:20240310T060000
END:DAYLIGHT
BEGIN:STANDARD
TZOFFSETFROM:-0300
TZOFFSETTO:-0400
TZNAME:AST
DTSTART:20241103T050000
END:STANDARD
END:VTIMEZONE
BEGIN:VEVENT
DTSTART;TZID=America/Halifax:20230101T163000
DTEND;TZID=America/Halifax:20230101T190000
DTSTAMP:20260425T235324
CREATED:20221222T153018Z
LAST-MODIFIED:20221222T153231Z
UID:1914-1672590600-1672599600@oldschoolclayandceramics.com
SUMMARY:Open Studio - Jan 1
DESCRIPTION:Feeling creative!? Join us Sunday Afternoons from 4:30 – 7 pm to make your own creations. I will be available to provide technical assistance for you to achieve your clay ideas. Pretty much no limit on what you can make. I plan to offer this option for open studio through most of the winter\, that is\, through January – February.  \nThis will be a test run for the month of January\, where clay and materials are  included in the price.  If you make something at home\, or take something home to work on\, you will be charged an additional fee for glazes and/or  firing.  If you have never done an open studio before\, it is good to come to the workshop with the intention of making 3 things (3 plates\, mugs\, bowls…) You may not make all 3\, but you will get a good start on them. I will help you with technical advice for construction of your design.  If you plan to work on the wheel\, you need to plan on at least 2 more open studios\, one more to trim your pots\, and a final one to glaze.  \nPrerequisite: 2 previous classes or workshops with me\, or a completed 4 week or more class. Limit of 4 people per class.  \nThis workshop is best for students who can work independently\, and are comfortable with the rules of the studio. \nTo reserve your seat – click here\n 
URL:https://oldschoolclayandceramics.com/event/open-studio-jan-1/
LOCATION:Old School Clay and Ceramics\, 145 Main St\, Groton\, Ma\, 01450
CATEGORIES:Class
ATTACH;FMTTYPE=image/jpeg:https://oldschoolclayandceramics.com/wp-content/uploads/2021/04/cropped-old-school-logo-scaled-1.jpg
ORGANIZER;CN="Old School Clay and Ceramics":MAILTO:whistlewood1@gmail.com
END:VEVENT
BEGIN:VEVENT
DTSTART;TZID=America/Halifax:20230108T163000
DTEND;TZID=America/Halifax:20230108T190000
DTSTAMP:20260425T235324
CREATED:20221222T153834Z
LAST-MODIFIED:20221222T153834Z
UID:1918-1673195400-1673204400@oldschoolclayandceramics.com
SUMMARY:Open Studio - Jan 8
DESCRIPTION:Feeling creative!? Join us Sunday Afternoons from 4:30 – 7 pm to make your own creations. I will be available to provide technical assistance for you to achieve your clay ideas. Pretty much no limit on what you can make. I plan to offer this option for open studio through most of the winter\, that is\, through January – February.  \nThis will be a test run for the month of January\, where clay and materials are  included in the price.  If you make something at home\, or take something home to work on\, you will be charged an additional fee for glazes and/or  firing.  If you have never done an open studio before\, it is good to come to the workshop with the intention of making 3 things (3 plates\, mugs\, bowls…) You may not make all 3\, but you will get a good start on them. I will help you with technical advice for construction of your design.  If you plan to work on the wheel\, you need to plan on at least 2 more open studios\, one more to trim your pots\, and a final one to glaze.  \nPrerequisite: 2 previous classes or workshops with me\, or a completed 4 week or more class. Limit of 4 people per class.  \nThis workshop is best for students who can work independently\, and are comfortable with the rules of the studio. \nTo reserve your seat – click here\n 
URL:https://oldschoolclayandceramics.com/event/open-studio-jan-8/
LOCATION:Old School Clay and Ceramics\, 145 Main St\, Groton\, Ma\, 01450
CATEGORIES:Class
ATTACH;FMTTYPE=image/jpeg:https://oldschoolclayandceramics.com/wp-content/uploads/2021/04/cropped-old-school-logo-scaled-1.jpg
ORGANIZER;CN="Old School Clay and Ceramics":MAILTO:whistlewood1@gmail.com
END:VEVENT
BEGIN:VEVENT
DTSTART;TZID=America/Halifax:20230115T163000
DTEND;TZID=America/Halifax:20230115T190000
DTSTAMP:20260425T235324
CREATED:20221222T154503Z
LAST-MODIFIED:20221222T154503Z
UID:1921-1673800200-1673809200@oldschoolclayandceramics.com
SUMMARY:Open Studio - Jan 15
DESCRIPTION:Feeling creative!? Join us Sunday Afternoons from 4:30 – 7 pm to make your own creations. I will be available to provide technical assistance for you to achieve your clay ideas. Pretty much no limit on what you can make. I plan to offer this option for open studio through most of the winter\, that is\, through January – February.  \nThis will be a test run for the month of January\, where clay and materials are  included in the price.  If you make something at home\, or take something home to work on\, you will be charged an additional fee for glazes and/or  firing.  If you have never done an open studio before\, it is good to come to the workshop with the intention of making 3 things (3 plates\, mugs\, bowls…) You may not make all 3\, but you will get a good start on them. I will help you with technical advice for construction of your design.  If you plan to work on the wheel\, you need to plan on at least 2 more open studios\, one more to trim your pots\, and a final one to glaze.  \nPrerequisite: 2 previous classes or workshops with me\, or a completed 4 week or more class. Limit of 4 people per class.  \nThis workshop is best for students who can work independently\, and are comfortable with the rules of the studio. \nTo reserve your seat – click here
URL:https://oldschoolclayandceramics.com/event/open-studio-jan-15/
LOCATION:Old School Clay and Ceramics\, 145 Main St\, Groton\, Ma\, 01450
CATEGORIES:Class
ATTACH;FMTTYPE=image/jpeg:https://oldschoolclayandceramics.com/wp-content/uploads/2021/04/cropped-old-school-logo-scaled-1.jpg
ORGANIZER;CN="Old School Clay and Ceramics":MAILTO:whistlewood1@gmail.com
END:VEVENT
END:VCALENDAR